Workbook

Sheet Ödemeler
A1: Ödeme adı | B1: Tür | C1: Sıklık | D1: Tutar | E1: Son ödeme günü | F1: Ödeme ayı (3 aylık / yıllık) | G1: Ödeme yöntemi | H1: Otomatik ödeme | I1: Aylık karşılığı | J1: Yıllık toplam
A2: Kira | B2: Kira | C2: Aylık | D2: 17500 | E2: 1 | G2: Banka hesabı | H2: Hayır | I2: =IF(OR(A2="",N(D2)=0),"",D2/IF(C2="Yıllık",12,IF(C2="3 aylık",3,1))) -> 17500 | J2: =IF(OR(A2="",N(D2)=0),"",D2*IF(C2="Yıllık",1,IF(C2="3 aylık",4,12))) -> 210000
A3: Aidat | B3: Aidat | C3: Aylık | D3: 1400 | E3: 5 | G3: Banka hesabı | H3: Evet | I3: =IF(OR(A3="",N(D3)=0),"",D3/IF(C3="Yıllık",12,IF(C3="3 aylık",3,1))) -> 1400 | J3: =IF(OR(A3="",N(D3)=0),"",D3*IF(C3="Yıllık",1,IF(C3="3 aylık",4,12))) -> 16800
A4: Elektrik | B4: Fatura | C4: Aylık | D4: 950 | E4: 18 | G4: Kredi kartı | H4: Evet | I4: =IF(OR(A4="",N(D4)=0),"",D4/IF(C4="Yıllık",12,IF(C4="3 aylık",3,1))) -> 950 | J4: =IF(OR(A4="",N(D4)=0),"",D4*IF(C4="Yıllık",1,IF(C4="3 aylık",4,12))) -> 11400
A5: Doğalgaz | B5: Fatura | C5: Aylık | D5: 1600 | E5: 22 | G5: Kredi kartı | H5: Evet | I5: =IF(OR(A5="",N(D5)=0),"",D5/IF(C5="Yıllık",12,IF(C5="3 aylık",3,1))) -> 1600 | J5: =IF(OR(A5="",N(D5)=0),"",D5*IF(C5="Yıllık",1,IF(C5="3 aylık",4,12))) -> 19200
A6: Su | B6: Fatura | C6: Aylık | D6: 420 | E6: 25 | G6: Kredi kartı | H6: Hayır | I6: =IF(OR(A6="",N(D6)=0),"",D6/IF(C6="Yıllık",12,IF(C6="3 aylık",3,1))) -> 420 | J6: =IF(OR(A6="",N(D6)=0),"",D6*IF(C6="Yıllık",1,IF(C6="3 aylık",4,12))) -> 5040
A7: İnternet | B7: Fatura | C7: Aylık | D7: 650 | E7: 12 | G7: Kredi kartı | H7: Evet | I7: =IF(OR(A7="",N(D7)=0),"",D7/IF(C7="Yıllık",12,IF(C7="3 aylık",3,1))) -> 650 | J7: =IF(OR(A7="",N(D7)=0),"",D7*IF(C7="Yıllık",1,IF(C7="3 aylık",4,12))) -> 7800
A8: Cep telefonu | B8: Fatura | C8: Aylık | D8: 480 | E8: 12 | G8: Kredi kartı | H8: Evet | I8: =IF(OR(A8="",N(D8)=0),"",D8/IF(C8="Yıllık",12,IF(C8="3 aylık",3,1))) -> 480 | J8: =IF(OR(A8="",N(D8)=0),"",D8*IF(C8="Yıllık",1,IF(C8="3 aylık",4,12))) -> 5760
A9: Dizi-film platformu | B9: Abonelik | C9: Aylık | D9: 230 | E9: 9 | G9: Kredi kartı | H9: Evet | I9: =IF(OR(A9="",N(D9)=0),"",D9/IF(C9="Yıllık",12,IF(C9="3 aylık",3,1))) -> 230 | J9: =IF(OR(A9="",N(D9)=0),"",D9*IF(C9="Yıllık",1,IF(C9="3 aylık",4,12))) -> 2760
A10: Müzik aboneliği | B10: Abonelik | C10: Aylık | D10: 100 | E10: 15 | G10: Kredi kartı | H10: Evet | I10: =IF(OR(A10="",N(D10)=0),"",D10/IF(C10="Yıllık",12,IF(C10="3 aylık",3,1))) -> 100 | J10: =IF(OR(A10="",N(D10)=0),"",D10*IF(C10="Yıllık",1,IF(C10="3 aylık",4,12))) -> 1200
A11: Spor salonu | B11: Abonelik | C11: Aylık | D11: 1500 | E11: 3 | G11: Kredi kartı | H11: Evet | I11: =IF(OR(A11="",N(D11)=0),"",D11/IF(C11="Yıllık",12,IF(C11="3 aylık",3,1))) -> 1500 | J11: =IF(OR(A11="",N(D11)=0),"",D11*IF(C11="Yıllık",1,IF(C11="3 aylık",4,12))) -> 18000
A12: İhtiyaç kredisi | B12: Kredi taksiti | C12: Aylık | D12: 4250 | E12: 7 | G12: Banka hesabı | H12: Evet | I12: =IF(OR(A12="",N(D12)=0),"",D12/IF(C12="Yıllık",12,IF(C12="3 aylık",3,1))) -> 4250 | J12: =IF(OR(A12="",N(D12)=0),"",D12*IF(C12="Yıllık",1,IF(C12="3 aylık",4,12))) -> 51000
A13: Dil uygulaması | B13: Abonelik | C13: 3 aylık | D13: 450 | E13: 14 | F13: 1 | G13: Kredi kartı | H13: Evet | I13: =IF(OR(A13="",N(D13)=0),"",D13/IF(C13="Yıllık",12,IF(C13="3 aylık",3,1))) -> 150 | J13: =IF(OR(A13="",N(D13)=0),"",D13*IF(C13="Yıllık",1,IF(C13="3 aylık",4,12))) -> 1800
A14: Bulut depolama | B14: Abonelik | C14: Yıllık | D14: 1200 | E14: 20 | F14: 3 | G14: Kredi kartı | H14: Evet | I14: =IF(OR(A14="",N(D14)=0),"",D14/IF(C14="Yıllık",12,IF(C14="3 aylık",3,1))) -> 100 | J14: =IF(OR(A14="",N(D14)=0),"",D14*IF(C14="Yıllık",1,IF(C14="3 aylık",4,12))) -> 1200
A15: Kasko | B15: Sigorta | C15: Yıllık | D15: 18000 | E15: 10 | F15: 4 | G15: Kredi kartı | H15: Hayır | I15: =IF(OR(A15="",N(D15)=0),"",D15/IF(C15="Yıllık",12,IF(C15="3 aylık",3,1))) -> 1500 | J15: =IF(OR(A15="",N(D15)=0),"",D15*IF(C15="Yıllık",1,IF(C15="3 aylık",4,12))) -> 18000
A16: DASK | B16: Sigorta | C16: Yıllık | D16: 1100 | E16: 15 | F16: 11 | G16: Banka hesabı | H16: Hayır | I16: =IF(OR(A16="",N(D16)=0),"",D16/IF(C16="Yıllık",12,IF(C16="3 aylık",3,1))) -> 91.666667 | J16: =IF(OR(A16="",N(D16)=0),"",D16*IF(C16="Yıllık",1,IF(C16="3 aylık",4,12))) -> 1100
I17: =IF(OR(A17="",N(D17)=0),"",D17/IF(C17="Yıllık",12,IF(C17="3 aylık",3,1))) | J17: =IF(OR(A17="",N(D17)=0),"",D17*IF(C17="Yıllık",1,IF(C17="3 aylık",4,12)))
I18: =IF(OR(A18="",N(D18)=0),"",D18/IF(C18="Yıllık",12,IF(C18="3 aylık",3,1))) | J18: =IF(OR(A18="",N(D18)=0),"",D18*IF(C18="Yıllık",1,IF(C18="3 aylık",4,12)))
I19: =IF(OR(A19="",N(D19)=0),"",D19/IF(C19="Yıllık",12,IF(C19="3 aylık",3,1))) | J19: =IF(OR(A19="",N(D19)=0),"",D19*IF(C19="Yıllık",1,IF(C19="3 aylık",4,12)))
I20: =IF(OR(A20="",N(D20)=0),"",D20/IF(C20="Yıllık",12,IF(C20="3 aylık",3,1))) | J20: =IF(OR(A20="",N(D20)=0),"",D20*IF(C20="Yıllık",1,IF(C20="3 aylık",4,12)))
I21: =IF(OR(A21="",N(D21)=0),"",D21/IF(C21="Yıllık",12,IF(C21="3 aylık",3,1))) | J21: =IF(OR(A21="",N(D21)=0),"",D21*IF(C21="Yıllık",1,IF(C21="3 aylık",4,12)))
I22: =IF(OR(A22="",N(D22)=0),"",D22/IF(C22="Yıllık",12,IF(C22="3 aylık",3,1))) | J22: =IF(OR(A22="",N(D22)=0),"",D22*IF(C22="Yıllık",1,IF(C22="3 aylık",4,12)))
I23: =IF(OR(A23="",N(D23)=0),"",D23/IF(C23="Yıllık",12,IF(C23="3 aylık",3,1))) | J23: =IF(OR(A23="",N(D23)=0),"",D23*IF(C23="Yıllık",1,IF(C23="3 aylık",4,12)))
I24: =IF(OR(A24="",N(D24)=0),"",D24/IF(C24="Yıllık",12,IF(C24="3 aylık",3,1))) | J24: =IF(OR(A24="",N(D24)=0),"",D24*IF(C24="Yıllık",1,IF(C24="3 aylık",4,12)))
I25: =IF(OR(A25="",N(D25)=0),"",D25/IF(C25="Yıllık",12,IF(C25="3 aylık",3,1))) | J25: =IF(OR(A25="",N(D25)=0),"",D25*IF(C25="Yıllık",1,IF(C25="3 aylık",4,12)))
I26: =IF(OR(A26="",N(D26)=0),"",D26/IF(C26="Yıllık",12,IF(C26="3 aylık",3,1))) | J26: =IF(OR(A26="",N(D26)=0),"",D26*IF(C26="Yıllık",1,IF(C26="3 aylık",4,12)))
I27: =IF(OR(A27="",N(D27)=0),"",D27/IF(C27="Yıllık",12,IF(C27="3 aylık",3,1))) | J27: =IF(OR(A27="",N(D27)=0),"",D27*IF(C27="Yıllık",1,IF(C27="3 aylık",4,12)))
I28: =IF(OR(A28="",N(D28)=0),"",D28/IF(C28="Yıllık",12,IF(C28="3 aylık",3,1))) | J28: =IF(OR(A28="",N(D28)=0),"",D28*IF(C28="Yıllık",1,IF(C28="3 aylık",4,12)))
... I31: =IF(OR(A31="",N(D31)=0),"",D31/IF(C31="Yıllık",12,IF(C31="3 aylık",3,1))) | J31: =IF(OR(A31="",N(D31)=0),"",D31*IF(C31="Yıllık",1,IF(C31="3 aylık",4,12)))
A33: Sarı hücreleri sen doldurursun, yeşil ve gri hücreler otomatik hesaplanır. Tutarı değişen faturalarda (elektrik, doğalgaz) son üç faturanın ortalamasını yaz. 3 aylık ve yıllık ödemelerde "Ödeme ayı" sütununa ilk ödeme ayının numarasını yaz (Mart = 3).

Sheet Takvim
A1: Ödeme Takvimi — her ay ödediğinde "Ödendi" seç
A2: Bu ay (1-12) | B2: =MONTH(TODAY()) -> 10 | C2: Otomatik; başka bir ayı görmek için üzerine sayı yaz. Gri hücreler o ay ödemesi olmayan aylardır, kırmızı hücreler geçmiş ayda ödenmemiş görünen ödemelerdir.
A3: Yıl | B3: 2026
A4: Ödeme | B4: Sıklık | C4: Ödeme ayı | D4: Tutar | E4: Oca | F4: Şub | G4: Mar | H4: Nis | I4: May | J4: Haz | K4: Tem | L4: Ağu | M4: Eyl | N4: Eki | O4: Kas | P4: Ara | Q4: Bu ay durumu
A5: =IF('Ödemeler'!A2="","",'Ödemeler'!A2) -> Kira | B5: =IF('Ödemeler'!A2="","",'Ödemeler'!C2) -> Aylık | C5: =IF(OR('Ödemeler'!A2="",'Ödemeler'!F2=""),"",'Ödemeler'!F2) | D5: =IF('Ödemeler'!A2="","",N('Ödemeler'!D2)) -> 17500 | E5: Ödendi | F5: Ödendi | G5: Ödendi | H5: Ödendi | I5: Ödendi | J5: Ödendi | K5: Ödendi | L5: Ödendi | M5: Ödendi | N5: Ödendi | Q5: =IF(A5="","",IF(OR(B5="Aylık",AND(B5="3 aylık",MOD($B$2-N(C5),3)=0),AND(B5="Yıllık",$B$2=N(C5))),IF(INDEX(E5:P5,1,$B$2)="Ödendi","Ödendi","Bekliyor"),"—")) -> Ödendi
A6: =IF('Ödemeler'!A3="","",'Ödemeler'!A3) -> Aidat | B6: =IF('Ödemeler'!A3="","",'Ödemeler'!C3) -> Aylık | C6: =IF(OR('Ödemeler'!A3="",'Ödemeler'!F3=""),"",'Ödemeler'!F3) | D6: =IF('Ödemeler'!A3="","",N('Ödemeler'!D3)) -> 1400 | E6: Ödendi | F6: Ödendi | G6: Ödendi | H6: Ödendi | I6: Ödendi | J6: Ödendi | K6: Ödendi | L6: Ödendi | M6: Ödendi | Q6: =IF(A6="","",IF(OR(B6="Aylık",AND(B6="3 aylık",MOD($B$2-N(C6),3)=0),AND(B6="Yıllık",$B$2=N(C6))),IF(INDEX(E6:P6,1,$B$2)="Ödendi","Ödendi","Bekliyor"),"—")) -> Bekliyor
A7: =IF('Ödemeler'!A4="","",'Ödemeler'!A4) -> Elektrik | B7: =IF('Ödemeler'!A4="","",'Ödemeler'!C4) -> Aylık | C7: =IF(OR('Ödemeler'!A4="",'Ödemeler'!F4=""),"",'Ödemeler'!F4) | D7: =IF('Ödemeler'!A4="","",N('Ödemeler'!D4)) -> 950 | E7: Ödendi | F7: Ödendi | G7: Ödendi | H7: Ödendi | I7: Ödendi | J7: Ödendi | K7: Ödendi | L7: Ödendi | M7: Ödendi | Q7: =IF(A7="","",IF(OR(B7="Aylık",AND(B7="3 aylık",MOD($B$2-N(C7),3)=0),AND(B7="Yıllık",$B$2=N(C7))),IF(INDEX(E7:P7,1,$B$2)="Ödendi","Ödendi","Bekliyor"),"—")) -> Bekliyor
A8: =IF('Ödemeler'!A5="","",'Ödemeler'!A5) -> Doğalgaz | B8: =IF('Ödemeler'!A5="","",'Ödemeler'!C5) -> Aylık | C8: =IF(OR('Ödemeler'!A5="",'Ödemeler'!F5=""),"",'Ödemeler'!F5) | D8: =IF('Ödemeler'!A5="","",N('Ödemeler'!D5)) -> 1600 | E8: Ödendi | F8: Ödendi | G8: Ödendi | H8: Ödendi | I8: Ödendi | J8: Ödendi | K8: Ödendi | L8: Ödendi | M8: Ödendi | Q8: =IF(A8="","",IF(OR(B8="Aylık",AND(B8="3 aylık",MOD($B$2-N(C8),3)=0),AND(B8="Yıllık",$B$2=N(C8))),IF(INDEX(E8:P8,1,$B$2)="Ödendi","Ödendi","Bekliyor"),"—")) -> Bekliyor
A9: =IF('Ödemeler'!A6="","",'Ödemeler'!A6) -> Su | B9: =IF('Ödemeler'!A6="","",'Ödemeler'!C6) -> Aylık | C9: =IF(OR('Ödemeler'!A6="",'Ödemeler'!F6=""),"",'Ödemeler'!F6) | D9: =IF('Ödemeler'!A6="","",N('Ödemeler'!D6)) -> 420 | E9: Ödendi | F9: Ödendi | G9: Ödendi | H9: Ödendi | I9: Ödendi | J9: Ödendi | K9: Ödendi | L9: Ödendi | M9: Ödendi | Q9: =IF(A9="","",IF(OR(B9="Aylık",AND(B9="3 aylık",MOD($B$2-N(C9),3)=0),AND(B9="Yıllık",$B$2=N(C9))),IF(INDEX(E9:P9,1,$B$2)="Ödendi","Ödendi","Bekliyor"),"—")) -> Bekliyor
A10: =IF('Ödemeler'!A7="","",'Ödemeler'!A7) -> İnternet | B10: =IF('Ödemeler'!A7="","",'Ödemeler'!C7) -> Aylık | C10: =IF(OR('Ödemeler'!A7="",'Ödemeler'!F7=""),"",'Ödemeler'!F7) | D10: =IF('Ödemeler'!A7="","",N('Ödemeler'!D7)) -> 650 | E10: Ödendi | F10: Ödendi | G10: Ödendi | H10: Ödendi | I10: Ödendi | J10: Ödendi | K10: Ödendi | L10: Ödendi | M10: Ödendi | Q10: =IF(A10="","",IF(OR(B10="Aylık",AND(B10="3 aylık",MOD($B$2-N(C10),3)=0),AND(B10="Yıllık",$B$2=N(C10))),IF(INDEX(E10:P10,1,$B$2)="Ödendi","Ödendi","Bekliyor"),"—")) -> Bekliyor
A11: =IF('Ödemeler'!A8="","",'Ödemeler'!A8) -> Cep telefonu | B11: =IF('Ödemeler'!A8="","",'Ödemeler'!C8) -> Aylık | C11: =IF(OR('Ödemeler'!A8="",'Ödemeler'!F8=""),"",'Ödemeler'!F8) | D11: =IF('Ödemeler'!A8="","",N('Ödemeler'!D8)) -> 480 | E11: Ödendi | F11: Ödendi | G11: Ödendi | H11: Ödendi | I11: Ödendi | J11: Ödendi | K11: Ödendi | L11: Ödendi | M11: Ödendi | Q11: =IF(A11="","",IF(OR(B11="Aylık",AND(B11="3 aylık",MOD($B$2-N(C11),3)=0),AND(B11="Yıllık",$B$2=N(C11))),IF(INDEX(E11:P11,1,$B$2)="Ödendi","Ödendi","Bekliyor"),"—")) -> Bekliyor
A12: =IF('Ödemeler'!A9="","",'Ödemeler'!A9) -> Dizi-film platformu | B12: =IF('Ödemeler'!A9="","",'Ödemeler'!C9) -> Aylık | C12: =IF(OR('Ödemeler'!A9="",'Ödemeler'!F9=""),"",'Ödemeler'!F9) | D12: =IF('Ödemeler'!A9="","",N('Ödemeler'!D9)) -> 230 | E12: Ödendi | F12: Ödendi | G12: Ödendi | H12: Ödendi | I12: Ödendi | J12: Ödendi | K12: Ödendi | L12: Ödendi | M12: Ödendi | Q12: =IF(A12="","",IF(OR(B12="Aylık",AND(B12="3 aylık",MOD($B$2-N(C12),3)=0),AND(B12="Yıllık",$B$2=N(C12))),IF(INDEX(E12:P12,1,$B$2)="Ödendi","Ödendi","Bekliyor"),"—")) -> Bekliyor
A13: =IF('Ödemeler'!A10="","",'Ödemeler'!A10) -> Müzik aboneliği | B13: =IF('Ödemeler'!A10="","",'Ödemeler'!C10) -> Aylık | C13: =IF(OR('Ödemeler'!A10="",'Ödemeler'!F10=""),"",'Ödemeler'!F10) | D13: =IF('Ödemeler'!A10="","",N('Ödemeler'!D10)) -> 100 | E13: Ödendi | F13: Ödendi | G13: Ödendi | H13: Ödendi | I13: Ödendi | J13: Ödendi | K13: Ödendi | L13: Ödendi | M13: Ödendi | Q13: =IF(A13="","",IF(OR(B13="Aylık",AND(B13="3 aylık",MOD($B$2-N(C13),3)=0),AND(B13="Yıllık",$B$2=N(C13))),IF(INDEX(E13:P13,1,$B$2)="Ödendi","Ödendi","Bekliyor"),"—")) -> Bekliyor
A14: =IF('Ödemeler'!A11="","",'Ödemeler'!A11) -> Spor salonu | B14: =IF('Ödemeler'!A11="","",'Ödemeler'!C11) -> Aylık | C14: =IF(OR('Ödemeler'!A11="",'Ödemeler'!F11=""),"",'Ödemeler'!F11) | D14: =IF('Ödemeler'!A11="","",N('Ödemeler'!D11)) -> 1500 | E14: Ödendi | F14: Ödendi | G14: Ödendi | H14: Ödendi | I14: Ödendi | J14: Ödendi | K14: Ödendi | L14: Ödendi | M14: Ödendi | N14: Ödendi | Q14: =IF(A14="","",IF(OR(B14="Aylık",AND(B14="3 aylık",MOD($B$2-N(C14),3)=0),AND(B14="Yıllık",$B$2=N(C14))),IF(INDEX(E14:P14,1,$B$2)="Ödendi","Ödendi","Bekliyor"),"—")) -> Ödendi
A15: =IF('Ödemeler'!A12="","",'Ödemeler'!A12) -> İhtiyaç kredisi | B15: =IF('Ödemeler'!A12="","",'Ödemeler'!C12) -> Aylık | C15: =IF(OR('Ödemeler'!A12="",'Ödemeler'!F12=""),"",'Ödemeler'!F12) | D15: =IF('Ödemeler'!A12="","",N('Ödemeler'!D12)) -> 4250 | E15: Ödendi | F15: Ödendi | G15: Ödendi | H15: Ödendi | I15: Ödendi | J15: Ödendi | K15: Ödendi | L15: Ödendi | M15: Ödendi | Q15: =IF(A15="","",IF(OR(B15="Aylık",AND(B15="3 aylık",MOD($B$2-N(C15),3)=0),AND(B15="Yıllık",$B$2=N(C15))),IF(INDEX(E15:P15,1,$B$2)="Ödendi","Ödendi","Bekliyor"),"—")) -> Bekliyor
A16: =IF('Ödemeler'!A13="","",'Ödemeler'!A13) -> Dil uygulaması | B16: =IF('Ödemeler'!A13="","",'Ödemeler'!C13) -> 3 aylık | C16: =IF(OR('Ödemeler'!A13="",'Ödemeler'!F13=""),"",'Ödemeler'!F13) -> 1 | D16: =IF('Ödemeler'!A13="","",N('Ödemeler'!D13)) -> 450 | E16: Ödendi | H16: Ödendi | K16: Ödendi | Q16: =IF(A16="","",IF(OR(B16="Aylık",AND(B16="3 aylık",MOD($B$2-N(C16),3)=0),AND(B16="Yıllık",$B$2=N(C16))),IF(INDEX(E16:P16,1,$B$2)="Ödendi","Ödendi","Bekliyor"),"—")) -> Bekliyor
A17: =IF('Ödemeler'!A14="","",'Ödemeler'!A14) -> Bulut depolama | B17: =IF('Ödemeler'!A14="","",'Ödemeler'!C14) -> Yıllık | C17: =IF(OR('Ödemeler'!A14="",'Ödemeler'!F14=""),"",'Ödemeler'!F14) -> 3 | D17: =IF('Ödemeler'!A14="","",N('Ödemeler'!D14)) -> 1200 | G17: Ödendi | Q17: =IF(A17="","",IF(OR(B17="Aylık",AND(B17="3 aylık",MOD($B$2-N(C17),3)=0),AND(B17="Yıllık",$B$2=N(C17))),IF(INDEX(E17:P17,1,$B$2)="Ödendi","Ödendi","Bekliyor"),"—")) -> —
A18: =IF('Ödemeler'!A15="","",'Ödemeler'!A15) -> Kasko | B18: =IF('Ödemeler'!A15="","",'Ödemeler'!C15) -> Yıllık | C18: =IF(OR('Ödemeler'!A15="",'Ödemeler'!F15=""),"",'Ödemeler'!F15) -> 4 | D18: =IF('Ödemeler'!A15="","",N('Ödemeler'!D15)) -> 18000 | H18: Ödendi | Q18: =IF(A18="","",IF(OR(B18="Aylık",AND(B18="3 aylık",MOD($B$2-N(C18),3)=0),AND(B18="Yıllık",$B$2=N(C18))),IF(INDEX(E18:P18,1,$B$2)="Ödendi","Ödendi","Bekliyor"),"—")) -> —
A19: =IF('Ödemeler'!A16="","",'Ödemeler'!A16) -> DASK | B19: =IF('Ödemeler'!A16="","",'Ödemeler'!C16) -> Yıllık | C19: =IF(OR('Ödemeler'!A16="",'Ödemeler'!F16=""),"",'Ödemeler'!F16) -> 11 | D19: =IF('Ödemeler'!A16="","",N('Ödemeler'!D16)) -> 1100 | Q19: =IF(A19="","",IF(OR(B19="Aylık",AND(B19="3 aylık",MOD($B$2-N(C19),3)=0),AND(B19="Yıllık",$B$2=N(C19))),IF(INDEX(E19:P19,1,$B$2)="Ödendi","Ödendi","Bekliyor"),"—")) -> —
A20: =IF('Ödemeler'!A17="","",'Ödemeler'!A17) | B20: =IF('Ödemeler'!A17="","",'Ödemeler'!C17) | C20: =IF(OR('Ödemeler'!A17="",'Ödemeler'!F17=""),"",'Ödemeler'!F17) | D20: =IF('Ödemeler'!A17="","",N('Ödemeler'!D17)) | Q20: =IF(A20="","",IF(OR(B20="Aylık",AND(B20="3 aylık",MOD($B$2-N(C20),3)=0),AND(B20="Yıllık",$B$2=N(C20))),IF(INDEX(E20:P20,1,$B$2)="Ödendi","Ödendi","Bekliyor"),"—"))
A21: =IF('Ödemeler'!A18="","",'Ödemeler'!A18) | B21: =IF('Ödemeler'!A18="","",'Ödemeler'!C18) | C21: =IF(OR('Ödemeler'!A18="",'Ödemeler'!F18=""),"",'Ödemeler'!F18) | D21: =IF('Ödemeler'!A18="","",N('Ödemeler'!D18)) | Q21: =IF(A21="","",IF(OR(B21="Aylık",AND(B21="3 aylık",MOD($B$2-N(C21),3)=0),AND(B21="Yıllık",$B$2=N(C21))),IF(INDEX(E21:P21,1,$B$2)="Ödendi","Ödendi","Bekliyor"),"—"))
A22: =IF('Ödemeler'!A19="","",'Ödemeler'!A19) | B22: =IF('Ödemeler'!A19="","",'Ödemeler'!C19) | C22: =IF(OR('Ödemeler'!A19="",'Ödemeler'!F19=""),"",'Ödemeler'!F19) | D22: =IF('Ödemeler'!A19="","",N('Ödemeler'!D19)) | Q22: =IF(A22="","",IF(OR(B22="Aylık",AND(B22="3 aylık",MOD($B$2-N(C22),3)=0),AND(B22="Yıllık",$B$2=N(C22))),IF(INDEX(E22:P22,1,$B$2)="Ödendi","Ödendi","Bekliyor"),"—"))
A23: =IF('Ödemeler'!A20="","",'Ödemeler'!A20) | B23: =IF('Ödemeler'!A20="","",'Ödemeler'!C20) | C23: =IF(OR('Ödemeler'!A20="",'Ödemeler'!F20=""),"",'Ödemeler'!F20) | D23: =IF('Ödemeler'!A20="","",N('Ödemeler'!D20)) | Q23: =IF(A23="","",IF(OR(B23="Aylık",AND(B23="3 aylık",MOD($B$2-N(C23),3)=0),AND(B23="Yıllık",$B$2=N(C23))),IF(INDEX(E23:P23,1,$B$2)="Ödendi","Ödendi","Bekliyor"),"—"))
A24: =IF('Ödemeler'!A21="","",'Ödemeler'!A21) | B24: =IF('Ödemeler'!A21="","",'Ödemeler'!C21) | C24: =IF(OR('Ödemeler'!A21="",'Ödemeler'!F21=""),"",'Ödemeler'!F21) | D24: =IF('Ödemeler'!A21="","",N('Ödemeler'!D21)) | Q24: =IF(A24="","",IF(OR(B24="Aylık",AND(B24="3 aylık",MOD($B$2-N(C24),3)=0),AND(B24="Yıllık",$B$2=N(C24))),IF(INDEX(E24:P24,1,$B$2)="Ödendi","Ödendi","Bekliyor"),"—"))
A25: =IF('Ödemeler'!A22="","",'Ödemeler'!A22) | B25: =IF('Ödemeler'!A22="","",'Ödemeler'!C22) | C25: =IF(OR('Ödemeler'!A22="",'Ödemeler'!F22=""),"",'Ödemeler'!F22) | D25: =IF('Ödemeler'!A22="","",N('Ödemeler'!D22)) | Q25: =IF(A25="","",IF(OR(B25="Aylık",AND(B25="3 aylık",MOD($B$2-N(C25),3)=0),AND(B25="Yıllık",$B$2=N(C25))),IF(INDEX(E25:P25,1,$B$2)="Ödendi","Ödendi","Bekliyor"),"—"))
A26: =IF('Ödemeler'!A23="","",'Ödemeler'!A23) | B26: =IF('Ödemeler'!A23="","",'Ödemeler'!C23) | C26: =IF(OR('Ödemeler'!A23="",'Ödemeler'!F23=""),"",'Ödemeler'!F23) | D26: =IF('Ödemeler'!A23="","",N('Ödemeler'!D23)) | Q26: =IF(A26="","",IF(OR(B26="Aylık",AND(B26="3 aylık",MOD($B$2-N(C26),3)=0),AND(B26="Yıllık",$B$2=N(C26))),IF(INDEX(E26:P26,1,$B$2)="Ödendi","Ödendi","Bekliyor"),"—"))
A27: =IF('Ödemeler'!A24="","",'Ödemeler'!A24) | B27: =IF('Ödemeler'!A24="","",'Ödemeler'!C24) | C27: =IF(OR('Ödemeler'!A24="",'Ödemeler'!F24=""),"",'Ödemeler'!F24) | D27: =IF('Ödemeler'!A24="","",N('Ödemeler'!D24)) | Q27: =IF(A27="","",IF(OR(B27="Aylık",AND(B27="3 aylık",MOD($B$2-N(C27),3)=0),AND(B27="Yıllık",$B$2=N(C27))),IF(INDEX(E27:P27,1,$B$2)="Ödendi","Ödendi","Bekliyor"),"—"))
A28: =IF('Ödemeler'!A25="","",'Ödemeler'!A25) | B28: =IF('Ödemeler'!A25="","",'Ödemeler'!C25) | C28: =IF(OR('Ödemeler'!A25="",'Ödemeler'!F25=""),"",'Ödemeler'!F25) | D28: =IF('Ödemeler'!A25="","",N('Ödemeler'!D25)) | Q28: =IF(A28="","",IF(OR(B28="Aylık",AND(B28="3 aylık",MOD($B$2-N(C28),3)=0),AND(B28="Yıllık",$B$2=N(C28))),IF(INDEX(E28:P28,1,$B$2)="Ödendi","Ödendi","Bekliyor"),"—"))
A29: =IF('Ödemeler'!A26="","",'Ödemeler'!A26) | B29: =IF('Ödemeler'!A26="","",'Ödemeler'!C26) | C29: =IF(OR('Ödemeler'!A26="",'Ödemeler'!F26=""),"",'Ödemeler'!F26) | D29: =IF('Ödemeler'!A26="","",N('Ödemeler'!D26)) | Q29: =IF(A29="","",IF(OR(B29="Aylık",AND(B29="3 aylık",MOD($B$2-N(C29),3)=0),AND(B29="Yıllık",$B$2=N(C29))),IF(INDEX(E29:P29,1,$B$2)="Ödendi","Ödendi","Bekliyor"),"—"))
A30: =IF('Ödemeler'!A27="","",'Ödemeler'!A27) | B30: =IF('Ödemeler'!A27="","",'Ödemeler'!C27) | C30: =IF(OR('Ödemeler'!A27="",'Ödemeler'!F27=""),"",'Ödemeler'!F27) | D30: =IF('Ödemeler'!A27="","",N('Ödemeler'!D27)) | Q30: =IF(A30="","",IF(OR(B30="Aylık",AND(B30="3 aylık",MOD($B$2-N(C30),3)=0),AND(B30="Yıllık",$B$2=N(C30))),IF(INDEX(E30:P30,1,$B$2)="Ödendi","Ödendi","Bekliyor"),"—"))
... A34: =IF('Ödemeler'!A31="","",'Ödemeler'!A31) | B34: =IF('Ödemeler'!A31="","",'Ödemeler'!C31) | C34: =IF(OR('Ödemeler'!A31="",'Ödemeler'!F31=""),"",'Ödemeler'!F31) | D34: =IF('Ödemeler'!A31="","",N('Ödemeler'!D31)) | Q34: =IF(A34="","",IF(OR(B34="Aylık",AND(B34="3 aylık",MOD($B$2-N(C34),3)=0),AND(B34="Yıllık",$B$2=N(C34))),IF(INDEX(E34:P34,1,$B$2)="Ödendi","Ödendi","Bekliyor"),"—"))
A35: Ödenen toplam | E35: =SUMIF(E5:E34,"Ödendi",$D$5:$D$34) -> 29530 | F35: =SUMIF(F5:F34,"Ödendi",$D$5:$D$34) -> 29080 | G35: =SUMIF(G5:G34,"Ödendi",$D$5:$D$34) -> 30280 | H35: =SUMIF(H5:H34,"Ödendi",$D$5:$D$34) -> 47530 | I35: =SUMIF(I5:I34,"Ödendi",$D$5:$D$34) -> 29080 | J35: =SUMIF(J5:J34,"Ödendi",$D$5:$D$34) -> 29080 | K35: =SUMIF(K5:K34,"Ödendi",$D$5:$D$34) -> 29530 | L35: =SUMIF(L5:L34,"Ödendi",$D$5:$D$34) -> 29080 | ... P35: =SUMIF(P5:P34,"Ödendi",$D$5:$D$34) -> 0

Sheet Özet
A1: Sabit Ödemeler Özeti
A3: Toplam aylık sabit ödeme (aylık karşılığı) | B3: =SUM('Ödemeler'!$I$2:$I$31) -> 30921.667
A4: Yıllık toplam | B4: =SUM('Ödemeler'!$J$2:$J$31) -> 371060
A5: Ödeme sayısı | B5: =COUNTA('Ödemeler'!$A$2:$A$31) -> 15
A6: Otomatik ödemede olmayan ödeme sayısı | B6: =COUNTIF('Ödemeler'!$H$2:$H$31,"Hayır") -> 4
A7: Bu ay | B7: =CHOOSE('Takvim'!$B$2,"Ocak","Şubat","Mart","Nisan","Mayıs","Haziran","Temmuz","Ağustos","Eylül","Ekim","Kasım","Aralık") -> Ekim
A8: Bu ay ödenecek toplam | B8: =SUMIF('Takvim'!$Q$5:$Q$34,"Bekliyor",'Takvim'!$D$5:$D$34)+SUMIF('Takvim'!$Q$5:$Q$34,"Ödendi",'Takvim'!$D$5:$D$34) -> 29530
A9: Bu ay ödenmemiş ödeme sayısı | B9: =COUNTIF('Takvim'!$Q$5:$Q$34,"Bekliyor") -> 10
A10: Bu ay ödenmemiş tutar | B10: =SUMIF('Takvim'!$Q$5:$Q$34,"Bekliyor",'Takvim'!$D$5:$D$34) -> 10530
A11: Aylık net gelirin (kendin yaz) | B11: 60000
A12: Sabit ödemelerin gelire oranı | B12: =IF(N(B11)=0,"",B3/B11) -> 0.51536111
A14: Türe göre dağılım
A15: Tür | B15: Adet | C15: Aylık karşılığı | D15: Yıllık toplam | E15: Pay
A16: Fatura | B16: =COUNTIF('Ödemeler'!$B$2:$B$31,A16) -> 5 | C16: =SUMIF('Ödemeler'!$B$2:$B$31,A16,'Ödemeler'!$I$2:$I$31) -> 4100 | D16: =SUMIF('Ödemeler'!$B$2:$B$31,A16,'Ödemeler'!$J$2:$J$31) -> 49200 | E16: =IF(N($B$3)=0,"",C16/$B$3) -> 0.13259311
A17: Abonelik | B17: =COUNTIF('Ödemeler'!$B$2:$B$31,A17) -> 5 | C17: =SUMIF('Ödemeler'!$B$2:$B$31,A17,'Ödemeler'!$I$2:$I$31) -> 2080 | D17: =SUMIF('Ödemeler'!$B$2:$B$31,A17,'Ödemeler'!$J$2:$J$31) -> 24960 | E17: =IF(N($B$3)=0,"",C17/$B$3) -> 0.067266749
A18: Kira | B18: =COUNTIF('Ödemeler'!$B$2:$B$31,A18) -> 1 | C18: =SUMIF('Ödemeler'!$B$2:$B$31,A18,'Ödemeler'!$I$2:$I$31) -> 17500 | D18: =SUMIF('Ödemeler'!$B$2:$B$31,A18,'Ödemeler'!$J$2:$J$31) -> 210000 | E18: =IF(N($B$3)=0,"",C18/$B$3) -> 0.56594621
A19: Aidat | B19: =COUNTIF('Ödemeler'!$B$2:$B$31,A19) -> 1 | C19: =SUMIF('Ödemeler'!$B$2:$B$31,A19,'Ödemeler'!$I$2:$I$31) -> 1400 | D19: =SUMIF('Ödemeler'!$B$2:$B$31,A19,'Ödemeler'!$J$2:$J$31) -> 16800 | E19: =IF(N($B$3)=0,"",C19/$B$3) -> 0.045275697
A20: Kredi taksiti | B20: =COUNTIF('Ödemeler'!$B$2:$B$31,A20) -> 1 | C20: =SUMIF('Ödemeler'!$B$2:$B$31,A20,'Ödemeler'!$I$2:$I$31) -> 4250 | D20: =SUMIF('Ödemeler'!$B$2:$B$31,A20,'Ödemeler'!$J$2:$J$31) -> 51000 | E20: =IF(N($B$3)=0,"",C20/$B$3) -> 0.13744408
A21: Sigorta | B21: =COUNTIF('Ödemeler'!$B$2:$B$31,A21) -> 2 | C21: =SUMIF('Ödemeler'!$B$2:$B$31,A21,'Ödemeler'!$I$2:$I$31) -> 1591.6667 | D21: =SUMIF('Ödemeler'!$B$2:$B$31,A21,'Ödemeler'!$J$2:$J$31) -> 19100 | E21: =IF(N($B$3)=0,"",C21/$B$3) -> 0.051474155
A22: Diğer | B22: =COUNTIF('Ödemeler'!$B$2:$B$31,A22) -> 0 | C22: =SUMIF('Ödemeler'!$B$2:$B$31,A22,'Ödemeler'!$I$2:$I$31) -> 0 | D22: =SUMIF('Ödemeler'!$B$2:$B$31,A22,'Ödemeler'!$J$2:$J$31) -> 0 | E22: =IF(N($B$3)=0,"",C22/$B$3) -> 0
A23: Toplam | B23: =SUM(B16:B22) -> 15 | C23: =SUM(C16:C22) -> 30921.667 | D23: =SUM(D16:D22) -> 371060 | E23: =IF(N($B$3)=0,"",C23/$B$3) -> 1

Sheet Nasıl Kullanılır
A1: Fatura ve Abonelik Takip Tablosu — Nasıl Kullanılır?
A3: 1. Ödemeler sayfası: Her düzenli ödemeyi bir satıra yaz (fatura, abonelik, kira, aidat, kredi taksiti, sigorta). Tür, sıklık, yöntem ve otomatik ödeme listeden seçilir.
A4: 2. Tutarı değişen faturalarda son üç ayın ortalamasını yaz. 3 aylık ve yıllık ödemelerin aylık karşılığı kendiliğinden hesaplanır.
A5: 3. 3 aylık ve yıllık ödemelerde "Ödeme ayı" sütununa ilk ödeme ayının numarasını yaz (Nisan = 4). 6 ayda bir ödenenleri iki ayrı yıllık satır olarak gir.
A6: 4. Takvim sayfası: Her ödemeyi yaptığında o ayın hücresinde "Ödendi" seç. Gri hücrelerde ödeme yoktur; kırmızı hücreler geçmiş ayda ödenmemiş görünür.
A7: 5. Örnek işaretleri silmek için Takvim sayfasında E5:P34’ü seçip Delete’e bas, B3’e yeni yılı yaz.
A8: 6. Özet sayfası: Aylık ve yıllık sabit ödeme yükün, bu ay ödenmemiş kalanlar ve türe göre dağılım.
A10: Formüller Excel, LibreOffice ve Google E-Tablolar ile çalışır. Türkçe ayarlı programlarda formüller noktalı virgülle (;) görünür, bu normaldir.
A11: Düzenli ödemeleri telefonda planlı işlem olarak tutmak için: kisiselmuhasebe.com
