Workbook

Sheet Borçlar
A1: Borç / Alacaklı | B1: Tür | C1: Kalan borç | D1: Aylık faiz % (vergi dahil) | E1: Aylık ödeme (asgari / taksit) | F1: Son ödeme günü | G1: Kalan taksit | H1: Bu ay faize giden | I1: Bu ay anaparaya giden | J1: Bu ödemeyle kaç ayda biter | K1: Çığ sırası
A2: Kredi kartı A | B2: Kredi kartı | C2: 38500 | D2: 0.0425 | E2: 6000 | F2: 15 | H2: =IF(A2="","",ROUND(N(C2)*N(D2),2)) -> 1636.25 | I2: =IF(A2="","",N(E2)-H2) -> 4363.75 | J2: =IF(OR(A2="",N(C2)<=0,N(E2)<=0),"",IF(E2<=H2,"Ödeme faizi karşılamıyor!",IF(N(D2)=0,ROUNDUP(C2/E2,0),ROUNDUP(NPER(D2,-E2,C2),0)))) -> 8 | K2: =IF(OR(A2="",N(C2)<=0),"",COUNTIFS($C$2:$C$16,">0",$D$2:$D$16,">"&N(D2))+COUNTIFS($C$2:C2,">0",$D$2:D2,N(D2))) -> 1
A3: Kredi kartı B | B3: Kredi kartı | C3: 12800 | D3: 0.039 | E3: 2500 | F3: 22 | H3: =IF(A3="","",ROUND(N(C3)*N(D3),2)) -> 499.2 | I3: =IF(A3="","",N(E3)-H3) -> 2000.8 | J3: =IF(OR(A3="",N(C3)<=0,N(E3)<=0),"",IF(E3<=H3,"Ödeme faizi karşılamıyor!",IF(N(D3)=0,ROUNDUP(C3/E3,0),ROUNDUP(NPER(D3,-E3,C3),0)))) -> 6 | K3: =IF(OR(A3="",N(C3)<=0),"",COUNTIFS($C$2:$C$16,">0",$D$2:$D$16,">"&N(D3))+COUNTIFS($C$2:C3,">0",$D$2:D3,N(D3))) -> 2
A4: İhtiyaç kredisi | B4: İhtiyaç kredisi | C4: 96000 | D4: 0.031 | E4: 6520 | F4: 5 | G4: 20 | H4: =IF(A4="","",ROUND(N(C4)*N(D4),2)) -> 2976 | I4: =IF(A4="","",N(E4)-H4) -> 3544 | J4: =IF(OR(A4="",N(C4)<=0,N(E4)<=0),"",IF(E4<=H4,"Ödeme faizi karşılamıyor!",IF(N(D4)=0,ROUNDUP(C4/E4,0),ROUNDUP(NPER(D4,-E4,C4),0)))) -> 20 | K4: =IF(OR(A4="",N(C4)<=0),"",COUNTIFS($C$2:$C$16,">0",$D$2:$D$16,">"&N(D4))+COUNTIFS($C$2:C4,">0",$D$2:D4,N(D4))) -> 3
A5: Telefon taksiti | B5: Taksit | C5: 14400 | D5: 0 | E5: 2400 | F5: 10 | G5: 6 | H5: =IF(A5="","",ROUND(N(C5)*N(D5),2)) -> 0 | I5: =IF(A5="","",N(E5)-H5) -> 2400 | J5: =IF(OR(A5="",N(C5)<=0,N(E5)<=0),"",IF(E5<=H5,"Ödeme faizi karşılamıyor!",IF(N(D5)=0,ROUNDUP(C5/E5,0),ROUNDUP(NPER(D5,-E5,C5),0)))) -> 6 | K5: =IF(OR(A5="",N(C5)<=0),"",COUNTIFS($C$2:$C$16,">0",$D$2:$D$16,">"&N(D5))+COUNTIFS($C$2:C5,">0",$D$2:D5,N(D5))) -> 4
A6: Emre (elden borç) | B6: Kişisel borç | C6: 10000 | D6: 0 | E6: 1000 | F6: 1 | G6: 10 | H6: =IF(A6="","",ROUND(N(C6)*N(D6),2)) -> 0 | I6: =IF(A6="","",N(E6)-H6) -> 1000 | J6: =IF(OR(A6="",N(C6)<=0,N(E6)<=0),"",IF(E6<=H6,"Ödeme faizi karşılamıyor!",IF(N(D6)=0,ROUNDUP(C6/E6,0),ROUNDUP(NPER(D6,-E6,C6),0)))) -> 10 | K6: =IF(OR(A6="",N(C6)<=0),"",COUNTIFS($C$2:$C$16,">0",$D$2:$D$16,">"&N(D6))+COUNTIFS($C$2:C6,">0",$D$2:D6,N(D6))) -> 5
H7: =IF(A7="","",ROUND(N(C7)*N(D7),2)) | I7: =IF(A7="","",N(E7)-H7) | J7: =IF(OR(A7="",N(C7)<=0,N(E7)<=0),"",IF(E7<=H7,"Ödeme faizi karşılamıyor!",IF(N(D7)=0,ROUNDUP(C7/E7,0),ROUNDUP(NPER(D7,-E7,C7),0)))) | K7: =IF(OR(A7="",N(C7)<=0),"",COUNTIFS($C$2:$C$16,">0",$D$2:$D$16,">"&N(D7))+COUNTIFS($C$2:C7,">0",$D$2:D7,N(D7)))
H8: =IF(A8="","",ROUND(N(C8)*N(D8),2)) | I8: =IF(A8="","",N(E8)-H8) | J8: =IF(OR(A8="",N(C8)<=0,N(E8)<=0),"",IF(E8<=H8,"Ödeme faizi karşılamıyor!",IF(N(D8)=0,ROUNDUP(C8/E8,0),ROUNDUP(NPER(D8,-E8,C8),0)))) | K8: =IF(OR(A8="",N(C8)<=0),"",COUNTIFS($C$2:$C$16,">0",$D$2:$D$16,">"&N(D8))+COUNTIFS($C$2:C8,">0",$D$2:D8,N(D8)))
H9: =IF(A9="","",ROUND(N(C9)*N(D9),2)) | I9: =IF(A9="","",N(E9)-H9) | J9: =IF(OR(A9="",N(C9)<=0,N(E9)<=0),"",IF(E9<=H9,"Ödeme faizi karşılamıyor!",IF(N(D9)=0,ROUNDUP(C9/E9,0),ROUNDUP(NPER(D9,-E9,C9),0)))) | K9: =IF(OR(A9="",N(C9)<=0),"",COUNTIFS($C$2:$C$16,">0",$D$2:$D$16,">"&N(D9))+COUNTIFS($C$2:C9,">0",$D$2:D9,N(D9)))
H10: =IF(A10="","",ROUND(N(C10)*N(D10),2)) | I10: =IF(A10="","",N(E10)-H10) | J10: =IF(OR(A10="",N(C10)<=0,N(E10)<=0),"",IF(E10<=H10,"Ödeme faizi karşılamıyor!",IF(N(D10)=0,ROUNDUP(C10/E10,0),ROUNDUP(NPER(D10,-E10,C10),0)))) | K10: =IF(OR(A10="",N(C10)<=0),"",COUNTIFS($C$2:$C$16,">0",$D$2:$D$16,">"&N(D10))+COUNTIFS($C$2:C10,">0",$D$2:D10,N(D10)))
H11: =IF(A11="","",ROUND(N(C11)*N(D11),2)) | I11: =IF(A11="","",N(E11)-H11) | J11: =IF(OR(A11="",N(C11)<=0,N(E11)<=0),"",IF(E11<=H11,"Ödeme faizi karşılamıyor!",IF(N(D11)=0,ROUNDUP(C11/E11,0),ROUNDUP(NPER(D11,-E11,C11),0)))) | K11: =IF(OR(A11="",N(C11)<=0),"",COUNTIFS($C$2:$C$16,">0",$D$2:$D$16,">"&N(D11))+COUNTIFS($C$2:C11,">0",$D$2:D11,N(D11)))
H12: =IF(A12="","",ROUND(N(C12)*N(D12),2)) | I12: =IF(A12="","",N(E12)-H12) | J12: =IF(OR(A12="",N(C12)<=0,N(E12)<=0),"",IF(E12<=H12,"Ödeme faizi karşılamıyor!",IF(N(D12)=0,ROUNDUP(C12/E12,0),ROUNDUP(NPER(D12,-E12,C12),0)))) | K12: =IF(OR(A12="",N(C12)<=0),"",COUNTIFS($C$2:$C$16,">0",$D$2:$D$16,">"&N(D12))+COUNTIFS($C$2:C12,">0",$D$2:D12,N(D12)))
H13: =IF(A13="","",ROUND(N(C13)*N(D13),2)) | I13: =IF(A13="","",N(E13)-H13) | J13: =IF(OR(A13="",N(C13)<=0,N(E13)<=0),"",IF(E13<=H13,"Ödeme faizi karşılamıyor!",IF(N(D13)=0,ROUNDUP(C13/E13,0),ROUNDUP(NPER(D13,-E13,C13),0)))) | K13: =IF(OR(A13="",N(C13)<=0),"",COUNTIFS($C$2:$C$16,">0",$D$2:$D$16,">"&N(D13))+COUNTIFS($C$2:C13,">0",$D$2:D13,N(D13)))
H14: =IF(A14="","",ROUND(N(C14)*N(D14),2)) | I14: =IF(A14="","",N(E14)-H14) | J14: =IF(OR(A14="",N(C14)<=0,N(E14)<=0),"",IF(E14<=H14,"Ödeme faizi karşılamıyor!",IF(N(D14)=0,ROUNDUP(C14/E14,0),ROUNDUP(NPER(D14,-E14,C14),0)))) | K14: =IF(OR(A14="",N(C14)<=0),"",COUNTIFS($C$2:$C$16,">0",$D$2:$D$16,">"&N(D14))+COUNTIFS($C$2:C14,">0",$D$2:D14,N(D14)))
H15: =IF(A15="","",ROUND(N(C15)*N(D15),2)) | I15: =IF(A15="","",N(E15)-H15) | J15: =IF(OR(A15="",N(C15)<=0,N(E15)<=0),"",IF(E15<=H15,"Ödeme faizi karşılamıyor!",IF(N(D15)=0,ROUNDUP(C15/E15,0),ROUNDUP(NPER(D15,-E15,C15),0)))) | K15: =IF(OR(A15="",N(C15)<=0),"",COUNTIFS($C$2:$C$16,">0",$D$2:$D$16,">"&N(D15))+COUNTIFS($C$2:C15,">0",$D$2:D15,N(D15)))
H16: =IF(A16="","",ROUND(N(C16)*N(D16),2)) | I16: =IF(A16="","",N(E16)-H16) | J16: =IF(OR(A16="",N(C16)<=0,N(E16)<=0),"",IF(E16<=H16,"Ödeme faizi karşılamıyor!",IF(N(D16)=0,ROUNDUP(C16/E16,0),ROUNDUP(NPER(D16,-E16,C16),0)))) | K16: =IF(OR(A16="",N(C16)<=0),"",COUNTIFS($C$2:$C$16,">0",$D$2:$D$16,">"&N(D16))+COUNTIFS($C$2:C16,">0",$D$2:D16,N(D16)))
A18: Sarı hücreleri sen doldurursun, gri ve yeşil hücreler otomatik hesaplanır. Faizsiz borçlara (taksit, elden borç) faiz olarak 0 yaz. Borç bitince kalan borcu 0 yap; satır sıralamadan çıkar.

Sheet Ödeme Planı
A1: Ödeme Planı — tek borç için ay ay
A2: B3’ten borcu seç (listeden). Ek ödeme yazınca kaç ay erken bittiğini ve ne kadar faiz kazandığını gör.
A3: Borç | B3: Kredi kartı A | D3: Kaç ayda biter | E3: =IF(N(B4)<=0,"",IF(N(G131)>0,"120 aydan uzun",MAX(A12:A131))) -> 8
A4: Kalan borç | B4: =IFERROR(INDEX('Borçlar'!$C$2:$C$16,MATCH($B$3,'Borçlar'!$A$2:$A$16,0)),0) -> 38500 | D4: Son ödeme ayı | E4: =IF(ISNUMBER(E3),INDEX(B12:B131,E3),"") -> 46508
A5: Aylık faiz % | B5: =IFERROR(INDEX('Borçlar'!$D$2:$D$16,MATCH($B$3,'Borçlar'!$A$2:$A$16,0)),0) -> 0.0425 | D5: Toplam faiz | E5: =SUM(D12:D131) -> 7431.49
A6: Aylık ödeme | B6: =IFERROR(INDEX('Borçlar'!$E$2:$E$16,MATCH($B$3,'Borçlar'!$A$2:$A$16,0)),0) -> 6000 | D6: Toplam ödeme | E6: =SUM(E12:E131) -> 45931.49
A7: Ek ödeme (her ay) | B7: 0 | D7: Ek ödemesiz kaç ay | E7: =IF(OR(N(B4)<=0,N(B6)<=ROUND(B4*B5,2)),"",IF(N(B5)=0,ROUNDUP(B4/B6,0),ROUNDUP(NPER(B5,-B6,B4),0))) -> 8
A8: Başlangıç ayı | B8: 46296
A11: Ay no | B11: Ay | C11: Dönem başı borç | D11: Faiz | E11: Ödeme | F11: Anaparaya | G11: Dönem sonu borç
A12: =IF(N($B$4)<=0,"",1) -> 1 | B12: =IF(A12="","",EDATE($B$8,A12-1)) -> 46296 | C12: =IF(A12="","",$B$4) -> 38500 | D12: =IF(A12="","",ROUND(C12*$B$5,2)) -> 1636.25 | E12: =IF(A12="","",MIN($B$6+$B$7,C12+D12)) -> 6000 | F12: =IF(A12="","",E12-D12) -> 4363.75 | G12: =IF(A12="","",ROUND(C12+D12-E12,2)) -> 34136.25
A13: =IF(A12="","",IF(N(G12)<=0,"",A12+1)) -> 2 | B13: =IF(A13="","",EDATE($B$8,A13-1)) -> 46327 | C13: =IF(A13="","",G12) -> 34136.25 | D13: =IF(A13="","",ROUND(C13*$B$5,2)) -> 1450.79 | E13: =IF(A13="","",MIN($B$6+$B$7,C13+D13)) -> 6000 | F13: =IF(A13="","",E13-D13) -> 4549.21 | G13: =IF(A13="","",ROUND(C13+D13-E13,2)) -> 29587.04
A14: =IF(A13="","",IF(N(G13)<=0,"",A13+1)) -> 3 | B14: =IF(A14="","",EDATE($B$8,A14-1)) -> 46357 | C14: =IF(A14="","",G13) -> 29587.04 | D14: =IF(A14="","",ROUND(C14*$B$5,2)) -> 1257.45 | E14: =IF(A14="","",MIN($B$6+$B$7,C14+D14)) -> 6000 | F14: =IF(A14="","",E14-D14) -> 4742.55 | G14: =IF(A14="","",ROUND(C14+D14-E14,2)) -> 24844.49
A15: =IF(A14="","",IF(N(G14)<=0,"",A14+1)) -> 4 | B15: =IF(A15="","",EDATE($B$8,A15-1)) -> 46388 | C15: =IF(A15="","",G14) -> 24844.49 | D15: =IF(A15="","",ROUND(C15*$B$5,2)) -> 1055.89 | E15: =IF(A15="","",MIN($B$6+$B$7,C15+D15)) -> 6000 | F15: =IF(A15="","",E15-D15) -> 4944.11 | G15: =IF(A15="","",ROUND(C15+D15-E15,2)) -> 19900.38
A16: =IF(A15="","",IF(N(G15)<=0,"",A15+1)) -> 5 | B16: =IF(A16="","",EDATE($B$8,A16-1)) -> 46419 | C16: =IF(A16="","",G15) -> 19900.38 | D16: =IF(A16="","",ROUND(C16*$B$5,2)) -> 845.77 | E16: =IF(A16="","",MIN($B$6+$B$7,C16+D16)) -> 6000 | F16: =IF(A16="","",E16-D16) -> 5154.23 | G16: =IF(A16="","",ROUND(C16+D16-E16,2)) -> 14746.15
A17: =IF(A16="","",IF(N(G16)<=0,"",A16+1)) -> 6 | B17: =IF(A17="","",EDATE($B$8,A17-1)) -> 46447 | C17: =IF(A17="","",G16) -> 14746.15 | D17: =IF(A17="","",ROUND(C17*$B$5,2)) -> 626.71 | E17: =IF(A17="","",MIN($B$6+$B$7,C17+D17)) -> 6000 | F17: =IF(A17="","",E17-D17) -> 5373.29 | G17: =IF(A17="","",ROUND(C17+D17-E17,2)) -> 9372.86
A18: =IF(A17="","",IF(N(G17)<=0,"",A17+1)) -> 7 | B18: =IF(A18="","",EDATE($B$8,A18-1)) -> 46478 | C18: =IF(A18="","",G17) -> 9372.86 | D18: =IF(A18="","",ROUND(C18*$B$5,2)) -> 398.35 | E18: =IF(A18="","",MIN($B$6+$B$7,C18+D18)) -> 6000 | F18: =IF(A18="","",E18-D18) -> 5601.65 | G18: =IF(A18="","",ROUND(C18+D18-E18,2)) -> 3771.21
A19: =IF(A18="","",IF(N(G18)<=0,"",A18+1)) -> 8 | B19: =IF(A19="","",EDATE($B$8,A19-1)) -> 46508 | C19: =IF(A19="","",G18) -> 3771.21 | D19: =IF(A19="","",ROUND(C19*$B$5,2)) -> 160.28 | E19: =IF(A19="","",MIN($B$6+$B$7,C19+D19)) -> 3931.49 | F19: =IF(A19="","",E19-D19) -> 3771.21 | G19: =IF(A19="","",ROUND(C19+D19-E19,2)) -> 0
A20: =IF(A19="","",IF(N(G19)<=0,"",A19+1)) | B20: =IF(A20="","",EDATE($B$8,A20-1)) | C20: =IF(A20="","",G19) | D20: =IF(A20="","",ROUND(C20*$B$5,2)) | E20: =IF(A20="","",MIN($B$6+$B$7,C20+D20)) | F20: =IF(A20="","",E20-D20) | G20: =IF(A20="","",ROUND(C20+D20-E20,2))
A21: =IF(A20="","",IF(N(G20)<=0,"",A20+1)) | B21: =IF(A21="","",EDATE($B$8,A21-1)) | C21: =IF(A21="","",G20) | D21: =IF(A21="","",ROUND(C21*$B$5,2)) | E21: =IF(A21="","",MIN($B$6+$B$7,C21+D21)) | F21: =IF(A21="","",E21-D21) | G21: =IF(A21="","",ROUND(C21+D21-E21,2))
A22: =IF(A21="","",IF(N(G21)<=0,"",A21+1)) | B22: =IF(A22="","",EDATE($B$8,A22-1)) | C22: =IF(A22="","",G21) | D22: =IF(A22="","",ROUND(C22*$B$5,2)) | E22: =IF(A22="","",MIN($B$6+$B$7,C22+D22)) | F22: =IF(A22="","",E22-D22) | G22: =IF(A22="","",ROUND(C22+D22-E22,2))
A23: =IF(A22="","",IF(N(G22)<=0,"",A22+1)) | B23: =IF(A23="","",EDATE($B$8,A23-1)) | C23: =IF(A23="","",G22) | D23: =IF(A23="","",ROUND(C23*$B$5,2)) | E23: =IF(A23="","",MIN($B$6+$B$7,C23+D23)) | F23: =IF(A23="","",E23-D23) | G23: =IF(A23="","",ROUND(C23+D23-E23,2))
A24: =IF(A23="","",IF(N(G23)<=0,"",A23+1)) | B24: =IF(A24="","",EDATE($B$8,A24-1)) | C24: =IF(A24="","",G23) | D24: =IF(A24="","",ROUND(C24*$B$5,2)) | E24: =IF(A24="","",MIN($B$6+$B$7,C24+D24)) | F24: =IF(A24="","",E24-D24) | G24: =IF(A24="","",ROUND(C24+D24-E24,2))
... A131: =IF(A130="","",IF(N(G130)<=0,"",A130+1)) | B131: =IF(A131="","",EDATE($B$8,A131-1)) | C131: =IF(A131="","",G130) | D131: =IF(A131="","",ROUND(C131*$B$5,2)) | E131: =IF(A131="","",MIN($B$6+$B$7,C131+D131)) | F131: =IF(A131="","",E131-D131) | G131: =IF(A131="","",ROUND(C131+D131-E131,2))

Sheet Özet
A1: Borç Özeti
A3: Toplam borç | B3: =SUM('Borçlar'!$C$2:$C$16) -> 171700
A4: Toplam aylık ödeme | B4: =SUM('Borçlar'!$E$2:$E$16) -> 18420
A5: Bu ay faize giden | B5: =SUM('Borçlar'!$H$2:$H$16) -> 5111.45
A6: Bu ay anaparaya giden | B6: =B4-B5 -> 13308.55
A7: Ortalama aylık faiz (borca göre ağırlıklı) | B7: =IF(N(B3)=0,0,SUMPRODUCT('Borçlar'!$C$2:$C$16,'Borçlar'!$D$2:$D$16)/B3) -> 0.029769656
A8: Aylık net gelirin (kendin yaz) | B8: 45000
A9: Borç ödemesinin gelire oranı | B9: =IF(N(B8)=0,"",B4/B8) -> 0.40933333
A11: Çığ yöntemi: önce en yüksek faizli borç
A12: Her borcun aylık ödemesini yap; artan her lirayı 1. sıradaki borca yatır. O bitince ödemesini 2. sıradakine ekle.
A13: Sıra | B13: Borç | C13: Aylık faiz % | D13: Kalan borç | E13: Aylık ödeme
A14: =IF(B14="","",1) -> 1 | B14: =IFERROR(INDEX('Borçlar'!$A$2:$A$16,MATCH(1,'Borçlar'!$K$2:$K$16,0)),"") -> Kredi kartı A | C14: =IF(B14="","",INDEX('Borçlar'!$D$2:$D$16,MATCH(1,'Borçlar'!$K$2:$K$16,0))) -> 0.0425 | D14: =IF(B14="","",INDEX('Borçlar'!$C$2:$C$16,MATCH(1,'Borçlar'!$K$2:$K$16,0))) -> 38500 | E14: =IF(B14="","",INDEX('Borçlar'!$E$2:$E$16,MATCH(1,'Borçlar'!$K$2:$K$16,0))) -> 6000
A15: =IF(B15="","",2) -> 2 | B15: =IFERROR(INDEX('Borçlar'!$A$2:$A$16,MATCH(2,'Borçlar'!$K$2:$K$16,0)),"") -> Kredi kartı B | C15: =IF(B15="","",INDEX('Borçlar'!$D$2:$D$16,MATCH(2,'Borçlar'!$K$2:$K$16,0))) -> 0.039 | D15: =IF(B15="","",INDEX('Borçlar'!$C$2:$C$16,MATCH(2,'Borçlar'!$K$2:$K$16,0))) -> 12800 | E15: =IF(B15="","",INDEX('Borçlar'!$E$2:$E$16,MATCH(2,'Borçlar'!$K$2:$K$16,0))) -> 2500
A16: =IF(B16="","",3) -> 3 | B16: =IFERROR(INDEX('Borçlar'!$A$2:$A$16,MATCH(3,'Borçlar'!$K$2:$K$16,0)),"") -> İhtiyaç kredisi | C16: =IF(B16="","",INDEX('Borçlar'!$D$2:$D$16,MATCH(3,'Borçlar'!$K$2:$K$16,0))) -> 0.031 | D16: =IF(B16="","",INDEX('Borçlar'!$C$2:$C$16,MATCH(3,'Borçlar'!$K$2:$K$16,0))) -> 96000 | E16: =IF(B16="","",INDEX('Borçlar'!$E$2:$E$16,MATCH(3,'Borçlar'!$K$2:$K$16,0))) -> 6520
A17: =IF(B17="","",4) -> 4 | B17: =IFERROR(INDEX('Borçlar'!$A$2:$A$16,MATCH(4,'Borçlar'!$K$2:$K$16,0)),"") -> Telefon taksiti | C17: =IF(B17="","",INDEX('Borçlar'!$D$2:$D$16,MATCH(4,'Borçlar'!$K$2:$K$16,0))) -> 0 | D17: =IF(B17="","",INDEX('Borçlar'!$C$2:$C$16,MATCH(4,'Borçlar'!$K$2:$K$16,0))) -> 14400 | E17: =IF(B17="","",INDEX('Borçlar'!$E$2:$E$16,MATCH(4,'Borçlar'!$K$2:$K$16,0))) -> 2400
A18: =IF(B18="","",5) -> 5 | B18: =IFERROR(INDEX('Borçlar'!$A$2:$A$16,MATCH(5,'Borçlar'!$K$2:$K$16,0)),"") -> Emre (elden borç) | C18: =IF(B18="","",INDEX('Borçlar'!$D$2:$D$16,MATCH(5,'Borçlar'!$K$2:$K$16,0))) -> 0 | D18: =IF(B18="","",INDEX('Borçlar'!$C$2:$C$16,MATCH(5,'Borçlar'!$K$2:$K$16,0))) -> 10000 | E18: =IF(B18="","",INDEX('Borçlar'!$E$2:$E$16,MATCH(5,'Borçlar'!$K$2:$K$16,0))) -> 1000
A19: =IF(B19="","",6) | B19: =IFERROR(INDEX('Borçlar'!$A$2:$A$16,MATCH(6,'Borçlar'!$K$2:$K$16,0)),"") | C19: =IF(B19="","",INDEX('Borçlar'!$D$2:$D$16,MATCH(6,'Borçlar'!$K$2:$K$16,0))) | D19: =IF(B19="","",INDEX('Borçlar'!$C$2:$C$16,MATCH(6,'Borçlar'!$K$2:$K$16,0))) | E19: =IF(B19="","",INDEX('Borçlar'!$E$2:$E$16,MATCH(6,'Borçlar'!$K$2:$K$16,0)))
A20: =IF(B20="","",7) | B20: =IFERROR(INDEX('Borçlar'!$A$2:$A$16,MATCH(7,'Borçlar'!$K$2:$K$16,0)),"") | C20: =IF(B20="","",INDEX('Borçlar'!$D$2:$D$16,MATCH(7,'Borçlar'!$K$2:$K$16,0))) | D20: =IF(B20="","",INDEX('Borçlar'!$C$2:$C$16,MATCH(7,'Borçlar'!$K$2:$K$16,0))) | E20: =IF(B20="","",INDEX('Borçlar'!$E$2:$E$16,MATCH(7,'Borçlar'!$K$2:$K$16,0)))
A21: =IF(B21="","",8) | B21: =IFERROR(INDEX('Borçlar'!$A$2:$A$16,MATCH(8,'Borçlar'!$K$2:$K$16,0)),"") | C21: =IF(B21="","",INDEX('Borçlar'!$D$2:$D$16,MATCH(8,'Borçlar'!$K$2:$K$16,0))) | D21: =IF(B21="","",INDEX('Borçlar'!$C$2:$C$16,MATCH(8,'Borçlar'!$K$2:$K$16,0))) | E21: =IF(B21="","",INDEX('Borçlar'!$E$2:$E$16,MATCH(8,'Borçlar'!$K$2:$K$16,0)))
A22: =IF(B22="","",9) | B22: =IFERROR(INDEX('Borçlar'!$A$2:$A$16,MATCH(9,'Borçlar'!$K$2:$K$16,0)),"") | C22: =IF(B22="","",INDEX('Borçlar'!$D$2:$D$16,MATCH(9,'Borçlar'!$K$2:$K$16,0))) | D22: =IF(B22="","",INDEX('Borçlar'!$C$2:$C$16,MATCH(9,'Borçlar'!$K$2:$K$16,0))) | E22: =IF(B22="","",INDEX('Borçlar'!$E$2:$E$16,MATCH(9,'Borçlar'!$K$2:$K$16,0)))
A23: =IF(B23="","",10) | B23: =IFERROR(INDEX('Borçlar'!$A$2:$A$16,MATCH(10,'Borçlar'!$K$2:$K$16,0)),"") | C23: =IF(B23="","",INDEX('Borçlar'!$D$2:$D$16,MATCH(10,'Borçlar'!$K$2:$K$16,0))) | D23: =IF(B23="","",INDEX('Borçlar'!$C$2:$C$16,MATCH(10,'Borçlar'!$K$2:$K$16,0))) | E23: =IF(B23="","",INDEX('Borçlar'!$E$2:$E$16,MATCH(10,'Borçlar'!$K$2:$K$16,0)))
A24: =IF(B24="","",11) | B24: =IFERROR(INDEX('Borçlar'!$A$2:$A$16,MATCH(11,'Borçlar'!$K$2:$K$16,0)),"") | C24: =IF(B24="","",INDEX('Borçlar'!$D$2:$D$16,MATCH(11,'Borçlar'!$K$2:$K$16,0))) | D24: =IF(B24="","",INDEX('Borçlar'!$C$2:$C$16,MATCH(11,'Borçlar'!$K$2:$K$16,0))) | E24: =IF(B24="","",INDEX('Borçlar'!$E$2:$E$16,MATCH(11,'Borçlar'!$K$2:$K$16,0)))
A25: =IF(B25="","",12) | B25: =IFERROR(INDEX('Borçlar'!$A$2:$A$16,MATCH(12,'Borçlar'!$K$2:$K$16,0)),"") | C25: =IF(B25="","",INDEX('Borçlar'!$D$2:$D$16,MATCH(12,'Borçlar'!$K$2:$K$16,0))) | D25: =IF(B25="","",INDEX('Borçlar'!$C$2:$C$16,MATCH(12,'Borçlar'!$K$2:$K$16,0))) | E25: =IF(B25="","",INDEX('Borçlar'!$E$2:$E$16,MATCH(12,'Borçlar'!$K$2:$K$16,0)))
A26: =IF(B26="","",13) | B26: =IFERROR(INDEX('Borçlar'!$A$2:$A$16,MATCH(13,'Borçlar'!$K$2:$K$16,0)),"") | C26: =IF(B26="","",INDEX('Borçlar'!$D$2:$D$16,MATCH(13,'Borçlar'!$K$2:$K$16,0))) | D26: =IF(B26="","",INDEX('Borçlar'!$C$2:$C$16,MATCH(13,'Borçlar'!$K$2:$K$16,0))) | E26: =IF(B26="","",INDEX('Borçlar'!$E$2:$E$16,MATCH(13,'Borçlar'!$K$2:$K$16,0)))
A27: =IF(B27="","",14) | B27: =IFERROR(INDEX('Borçlar'!$A$2:$A$16,MATCH(14,'Borçlar'!$K$2:$K$16,0)),"") | C27: =IF(B27="","",INDEX('Borçlar'!$D$2:$D$16,MATCH(14,'Borçlar'!$K$2:$K$16,0))) | D27: =IF(B27="","",INDEX('Borçlar'!$C$2:$C$16,MATCH(14,'Borçlar'!$K$2:$K$16,0))) | E27: =IF(B27="","",INDEX('Borçlar'!$E$2:$E$16,MATCH(14,'Borçlar'!$K$2:$K$16,0)))
A28: =IF(B28="","",15) | B28: =IFERROR(INDEX('Borçlar'!$A$2:$A$16,MATCH(15,'Borçlar'!$K$2:$K$16,0)),"") | C28: =IF(B28="","",INDEX('Borçlar'!$D$2:$D$16,MATCH(15,'Borçlar'!$K$2:$K$16,0))) | D28: =IF(B28="","",INDEX('Borçlar'!$C$2:$C$16,MATCH(15,'Borçlar'!$K$2:$K$16,0))) | E28: =IF(B28="","",INDEX('Borçlar'!$E$2:$E$16,MATCH(15,'Borçlar'!$K$2:$K$16,0)))

Sheet Nasıl Kullanılır
A1: Borç Takip Tablosu — Nasıl Kullanılır?
A3: 1. Borçlar sayfası: Her borcu bir satıra yaz. Kalan borcu ekstreden ya da banka uygulamasından al; aylık faizi vergi dahil gir (kredi kartında faize vergiler eklenir).
A4: 2. Aylık ödeme: Kredi kartında asgari tutarı değil, her ay gerçekten ödeyeceğin sabit tutarı yaz. Kredi ve taksitte taksit tutarını yaz.
A5: 3. "Ödeme faizi karşılamıyor!" uyarısı görürsen o borç her ay büyüyor demektir: önce bu satıra odaklan.
A6: 4. Ödeme Planı sayfası: B3’ten borcu seç. Ek ödeme hücresine tutar yaz, bitiş ayını ve toplam faizi karşılaştır.
A7: 5. Özet sayfası: Toplam borç, aylık ödeme yükü ve çığ yöntemine göre ödeme sırası. Her ay kalan borçları güncelle, sıra kendini yeniler.
A9: Hesaplar tahminidir: banka faizi gün bazında işletebilir, taksitli işlemler ve ücretler sonucu birkaç lira değiştirebilir.
A10: Formüller Excel, LibreOffice ve Google E-Tablolar ile çalışır. Türkçe ayarlı programlarda formüller noktalı virgülle (;) görünür, bu normaldir.
A11: Borçları ve vade hatırlatmalarını telefonda tutmak için: kisiselmuhasebe.com
