Workbook

Sheet Bütçe
A1: Aylık Bütçe Tablosu 2026 — Planlanan
A2: Sarı hücrelere her ay için planladığın tutarı yaz; gri ve yeşil satırlar otomatik hesaplanır. Örnek rakamlar 45.000 TL net gelirli bir hane içindir, üzerine yaz.
A3: Kalem | B3: Ocak | C3: Şubat | D3: Mart | E3: Nisan | F3: Mayıs | G3: Haziran | H3: Temmuz | I3: Ağustos | J3: Eylül | K3: Ekim | L3: Kasım | M3: Aralık | N3: Yıllık toplam | O3: Aylık ortalama
A4: GELİRLER
A5: Maaş | B5: 45000 | C5: 45000 | D5: 45000 | E5: 45000 | F5: 45000 | G5: 45000 | H5: 45000 | I5: 45000 | J5: 45000 | K5: 45000 | L5: 45000 | M5: 45000 | N5: =SUM(B5:M5) -> 540000 | O5: =IF(COUNT(B5:M5)=0,"",AVERAGE(B5:M5)) -> 45000
A6: Ek gelir | B6: 0 | C6: 0 | D6: 0 | E6: 0 | F6: 0 | G6: 0 | H6: 0 | I6: 0 | J6: 0 | K6: 0 | L6: 0 | M6: 0 | N6: =SUM(B6:M6) -> 0 | O6: =IF(COUNT(B6:M6)=0,"",AVERAGE(B6:M6)) -> 0
A7: Diğer gelir | B7: 0 | C7: 0 | D7: 0 | E7: 0 | F7: 0 | G7: 0 | H7: 0 | I7: 0 | J7: 0 | K7: 0 | L7: 0 | M7: 0 | N7: =SUM(B7:M7) -> 0 | O7: =IF(COUNT(B7:M7)=0,"",AVERAGE(B7:M7)) -> 0
A8: Toplam gelir | B8: =IF(COUNT(B5:B7,B11:B26)=0,"",SUM(B5:B7)) -> 45000 | C8: =IF(COUNT(C5:C7,C11:C26)=0,"",SUM(C5:C7)) -> 45000 | D8: =IF(COUNT(D5:D7,D11:D26)=0,"",SUM(D5:D7)) -> 45000 | E8: =IF(COUNT(E5:E7,E11:E26)=0,"",SUM(E5:E7)) -> 45000 | F8: =IF(COUNT(F5:F7,F11:F26)=0,"",SUM(F5:F7)) -> 45000 | G8: =IF(COUNT(G5:G7,G11:G26)=0,"",SUM(G5:G7)) -> 45000 | H8: =IF(COUNT(H5:H7,H11:H26)=0,"",SUM(H5:H7)) -> 45000 | I8: =IF(COUNT(I5:I7,I11:I26)=0,"",SUM(I5:I7)) -> 45000 | ... M8: =IF(COUNT(M5:M7,M11:M26)=0,"",SUM(M5:M7)) -> 45000 | N8: =SUM(B8:M8) -> 540000 | O8: =IF(COUNT(B8:M8)=0,"",AVERAGE(B8:M8)) -> 45000
A10: GİDERLER
A11: Kira | B11: 15000 | C11: 15000 | D11: 15000 | E11: 15000 | F11: 15000 | G11: 15000 | H11: 15000 | I11: 15000 | J11: 15000 | K11: 15000 | L11: 15000 | M11: 15000 | N11: =SUM(B11:M11) -> 180000 | O11: =IF(COUNT(B11:M11)=0,"",AVERAGE(B11:M11)) -> 15000
A12: Aidat | B12: 1200 | C12: 1200 | D12: 1200 | E12: 1200 | F12: 1200 | G12: 1200 | H12: 1200 | I12: 1200 | J12: 1200 | K12: 1200 | L12: 1200 | M12: 1200 | N12: =SUM(B12:M12) -> 14400 | O12: =IF(COUNT(B12:M12)=0,"",AVERAGE(B12:M12)) -> 1200
A13: Elektrik | B13: 900 | C13: 900 | D13: 900 | E13: 900 | F13: 900 | G13: 900 | H13: 900 | I13: 900 | J13: 900 | K13: 900 | L13: 900 | M13: 900 | N13: =SUM(B13:M13) -> 10800 | O13: =IF(COUNT(B13:M13)=0,"",AVERAGE(B13:M13)) -> 900
A14: Su | B14: 450 | C14: 450 | D14: 450 | E14: 450 | F14: 450 | G14: 450 | H14: 450 | I14: 450 | J14: 450 | K14: 450 | L14: 450 | M14: 450 | N14: =SUM(B14:M14) -> 5400 | O14: =IF(COUNT(B14:M14)=0,"",AVERAGE(B14:M14)) -> 450
A15: Doğalgaz | B15: 2400 | C15: 2200 | D15: 1600 | E15: 900 | F15: 500 | G15: 300 | H15: 300 | I15: 300 | J15: 400 | K15: 900 | L15: 1600 | M15: 2200 | N15: =SUM(B15:M15) -> 13600 | O15: =IF(COUNT(B15:M15)=0,"",AVERAGE(B15:M15)) -> 1133.3333
A16: İnternet / Telefon | B16: 1100 | C16: 1100 | D16: 1100 | E16: 1100 | F16: 1100 | G16: 1100 | H16: 1100 | I16: 1100 | J16: 1100 | K16: 1100 | L16: 1100 | M16: 1100 | N16: =SUM(B16:M16) -> 13200 | O16: =IF(COUNT(B16:M16)=0,"",AVERAGE(B16:M16)) -> 1100
A17: Market | B17: 9000 | C17: 9000 | D17: 9000 | E17: 9000 | F17: 9000 | G17: 9000 | H17: 9000 | I17: 9000 | J17: 9000 | K17: 9000 | L17: 9000 | M17: 9000 | N17: =SUM(B17:M17) -> 108000 | O17: =IF(COUNT(B17:M17)=0,"",AVERAGE(B17:M17)) -> 9000
A18: Ulaşım | B18: 2500 | C18: 2500 | D18: 2500 | E18: 2500 | F18: 2500 | G18: 2500 | H18: 2500 | I18: 2500 | J18: 2500 | K18: 2500 | L18: 2500 | M18: 2500 | N18: =SUM(B18:M18) -> 30000 | O18: =IF(COUNT(B18:M18)=0,"",AVERAGE(B18:M18)) -> 2500
A19: Sağlık | B19: 600 | C19: 600 | D19: 600 | E19: 600 | F19: 600 | G19: 600 | H19: 600 | I19: 600 | J19: 600 | K19: 600 | L19: 600 | M19: 600 | N19: =SUM(B19:M19) -> 7200 | O19: =IF(COUNT(B19:M19)=0,"",AVERAGE(B19:M19)) -> 600
A20: Eğitim | B20: 1000 | C20: 1000 | D20: 1000 | E20: 1000 | F20: 1000 | G20: 1000 | H20: 1000 | I20: 1000 | J20: 3000 | K20: 1000 | L20: 1000 | M20: 1000 | N20: =SUM(B20:M20) -> 14000 | O20: =IF(COUNT(B20:M20)=0,"",AVERAGE(B20:M20)) -> 1166.6667
A21: Giyim | B21: 1000 | C21: 1000 | D21: 1000 | E21: 1000 | F21: 1000 | G21: 1000 | H21: 1000 | I21: 1000 | J21: 2000 | K21: 1000 | L21: 1000 | M21: 1000 | N21: =SUM(B21:M21) -> 13000 | O21: =IF(COUNT(B21:M21)=0,"",AVERAGE(B21:M21)) -> 1083.3333
A22: Eğlence | B22: 1500 | C22: 1500 | D22: 1500 | E22: 1500 | F22: 1500 | G22: 1500 | H22: 4000 | I22: 1500 | J22: 1500 | K22: 1500 | L22: 1500 | M22: 1500 | N22: =SUM(B22:M22) -> 20500 | O22: =IF(COUNT(B22:M22)=0,"",AVERAGE(B22:M22)) -> 1708.3333
... A26: Diğer | B26: 800 | C26: 800 | D26: 800 | E26: 800 | F26: 800 | G26: 800 | H26: 800 | I26: 800 | J26: 800 | K26: 800 | L26: 800 | M26: 800 | N26: =SUM(B26:M26) -> 9600 | O26: =IF(COUNT(B26:M26)=0,"",AVERAGE(B26:M26)) -> 800
A27: Toplam gider | B27: =IF(COUNT(B5:B7,B11:B26)=0,"",SUM(B11:B26)) -> 42900 | C27: =IF(COUNT(C5:C7,C11:C26)=0,"",SUM(C11:C26)) -> 42700 | D27: =IF(COUNT(D5:D7,D11:D26)=0,"",SUM(D11:D26)) -> 42100 | E27: =IF(COUNT(E5:E7,E11:E26)=0,"",SUM(E11:E26)) -> 41400 | F27: =IF(COUNT(F5:F7,F11:F26)=0,"",SUM(F11:F26)) -> 41000 | G27: =IF(COUNT(G5:G7,G11:G26)=0,"",SUM(G11:G26)) -> 40800 | H27: =IF(COUNT(H5:H7,H11:H26)=0,"",SUM(H11:H26)) -> 43300 | I27: =IF(COUNT(I5:I7,I11:I26)=0,"",SUM(I11:I26)) -> 40800 | ... M27: =IF(COUNT(M5:M7,M11:M26)=0,"",SUM(M11:M26)) -> 42700 | N27: =SUM(B27:M27) -> 505100 | O27: =IF(COUNT(B27:M27)=0,"",AVERAGE(B27:M27)) -> 42091.667
A29: Kalan (gelir − gider) | B29: =IF(B8="","",B8-B27) -> 2100 | C29: =IF(C8="","",C8-C27) -> 2300 | D29: =IF(D8="","",D8-D27) -> 2900 | E29: =IF(E8="","",E8-E27) -> 3600 | F29: =IF(F8="","",F8-F27) -> 4000 | G29: =IF(G8="","",G8-G27) -> 4200 | H29: =IF(H8="","",H8-H27) -> 1700 | I29: =IF(I8="","",I8-I27) -> 4200 | ... M29: =IF(M8="","",M8-M27) -> 2300 | N29: =SUM(B29:M29) -> 34900 | O29: =IF(COUNT(B29:M29)=0,"",AVERAGE(B29:M29)) -> 2908.3333
A30: Biriken (birikim + kalan) | B30: =IF(B8="","",B25+B29) -> 5100 | C30: =IF(C8="","",C25+C29) -> 5300 | D30: =IF(D8="","",D25+D29) -> 5900 | E30: =IF(E8="","",E25+E29) -> 6600 | F30: =IF(F8="","",F25+F29) -> 7000 | G30: =IF(G8="","",G25+G29) -> 7200 | H30: =IF(H8="","",H25+H29) -> 4700 | I30: =IF(I8="","",I25+I29) -> 7200 | ... M30: =IF(M8="","",M25+M29) -> 5300 | N30: =SUM(B30:M30) -> 70900 | O30: =IF(COUNT(B30:M30)=0,"",AVERAGE(B30:M30)) -> 5908.3333
A31: Tasarruf oranı | B31: =IF(N(B8)=0,"",B30/B8) -> 0.11333333 | C31: =IF(N(C8)=0,"",C30/C8) -> 0.11777778 | D31: =IF(N(D8)=0,"",D30/D8) -> 0.13111111 | E31: =IF(N(E8)=0,"",E30/E8) -> 0.14666667 | F31: =IF(N(F8)=0,"",F30/F8) -> 0.15555556 | G31: =IF(N(G8)=0,"",G30/G8) -> 0.16 | H31: =IF(N(H8)=0,"",H30/H8) -> 0.10444444 | I31: =IF(N(I8)=0,"",I30/I8) -> 0.16 | ... O31: =IF(N(O8)=0,"",O30/O8) -> 0.1312963

Sheet Gerçekleşen
A1: Aylık Bütçe Tablosu 2026 — Gerçekleşen
A2: Ay bitince gerçekte harcadığın tutarları yaz. Boş bıraktığın aylar hesaba katılmaz. Örnekte Ocak-Mart doludur.
A3: Kalem | B3: Ocak | C3: Şubat | D3: Mart | E3: Nisan | F3: Mayıs | G3: Haziran | H3: Temmuz | I3: Ağustos | J3: Eylül | K3: Ekim | L3: Kasım | M3: Aralık | N3: Yıllık toplam | O3: Aylık ortalama
A4: GELİRLER
A5: ='Bütçe'!A5 -> Maaş | B5: 45000 | C5: 45000 | D5: 45000 | N5: =SUM(B5:M5) -> 135000 | O5: =IF(COUNT(B5:M5)=0,"",AVERAGE(B5:M5)) -> 45000
A6: ='Bütçe'!A6 -> Ek gelir | B6: 0 | C6: 3000 | D6: 0 | N6: =SUM(B6:M6) -> 3000 | O6: =IF(COUNT(B6:M6)=0,"",AVERAGE(B6:M6)) -> 1000
A7: ='Bütçe'!A7 -> Diğer gelir | B7: 0 | C7: 0 | D7: 0 | N7: =SUM(B7:M7) -> 0 | O7: =IF(COUNT(B7:M7)=0,"",AVERAGE(B7:M7)) -> 0
A8: Toplam gelir | B8: =IF(COUNT(B5:B7,B11:B26)=0,"",SUM(B5:B7)) -> 45000 | C8: =IF(COUNT(C5:C7,C11:C26)=0,"",SUM(C5:C7)) -> 48000 | D8: =IF(COUNT(D5:D7,D11:D26)=0,"",SUM(D5:D7)) -> 45000 | E8: =IF(COUNT(E5:E7,E11:E26)=0,"",SUM(E5:E7)) | F8: =IF(COUNT(F5:F7,F11:F26)=0,"",SUM(F5:F7)) | G8: =IF(COUNT(G5:G7,G11:G26)=0,"",SUM(G5:G7)) | H8: =IF(COUNT(H5:H7,H11:H26)=0,"",SUM(H5:H7)) | I8: =IF(COUNT(I5:I7,I11:I26)=0,"",SUM(I5:I7)) | ... M8: =IF(COUNT(M5:M7,M11:M26)=0,"",SUM(M5:M7)) | N8: =SUM(B8:M8) -> 138000 | O8: =IF(COUNT(B8:M8)=0,"",AVERAGE(B8:M8)) -> 46000
A10: GİDERLER
A11: ='Bütçe'!A11 -> Kira | B11: 15000 | C11: 15000 | D11: 15000 | N11: =SUM(B11:M11) -> 45000 | O11: =IF(COUNT(B11:M11)=0,"",AVERAGE(B11:M11)) -> 15000
A12: ='Bütçe'!A12 -> Aidat | B12: 1200 | C12: 1200 | D12: 1200 | N12: =SUM(B12:M12) -> 3600 | O12: =IF(COUNT(B12:M12)=0,"",AVERAGE(B12:M12)) -> 1200
A13: ='Bütçe'!A13 -> Elektrik | B13: 1040 | C13: 980 | D13: 910 | N13: =SUM(B13:M13) -> 2930 | O13: =IF(COUNT(B13:M13)=0,"",AVERAGE(B13:M13)) -> 976.66667
A14: ='Bütçe'!A14 -> Su | B14: 470 | C14: 450 | D14: 440 | N14: =SUM(B14:M14) -> 1360 | O14: =IF(COUNT(B14:M14)=0,"",AVERAGE(B14:M14)) -> 453.33333
A15: ='Bütçe'!A15 -> Doğalgaz | B15: 2860 | C15: 2650 | D15: 1750 | N15: =SUM(B15:M15) -> 7260 | O15: =IF(COUNT(B15:M15)=0,"",AVERAGE(B15:M15)) -> 2420
A16: ='Bütçe'!A16 -> İnternet / Telefon | B16: 1100 | C16: 1100 | D16: 1100 | N16: =SUM(B16:M16) -> 3300 | O16: =IF(COUNT(B16:M16)=0,"",AVERAGE(B16:M16)) -> 1100
A17: ='Bütçe'!A17 -> Market | B17: 10350 | C17: 9400 | D17: 8800 | N17: =SUM(B17:M17) -> 28550 | O17: =IF(COUNT(B17:M17)=0,"",AVERAGE(B17:M17)) -> 9516.6667
A18: ='Bütçe'!A18 -> Ulaşım | B18: 2300 | C18: 2650 | D18: 2450 | N18: =SUM(B18:M18) -> 7400 | O18: =IF(COUNT(B18:M18)=0,"",AVERAGE(B18:M18)) -> 2466.6667
A19: ='Bütçe'!A19 -> Sağlık | B19: 250 | C19: 1800 | D19: 400 | N19: =SUM(B19:M19) -> 2450 | O19: =IF(COUNT(B19:M19)=0,"",AVERAGE(B19:M19)) -> 816.66667
A20: ='Bütçe'!A20 -> Eğitim | B20: 1000 | C20: 1000 | D20: 1000 | N20: =SUM(B20:M20) -> 3000 | O20: =IF(COUNT(B20:M20)=0,"",AVERAGE(B20:M20)) -> 1000
A21: ='Bütçe'!A21 -> Giyim | B21: 2400 | C21: 600 | D21: 900 | N21: =SUM(B21:M21) -> 3900 | O21: =IF(COUNT(B21:M21)=0,"",AVERAGE(B21:M21)) -> 1300
A22: ='Bütçe'!A22 -> Eğlence | B22: 1900 | C22: 1300 | D22: 1600 | N22: =SUM(B22:M22) -> 4800 | O22: =IF(COUNT(B22:M22)=0,"",AVERAGE(B22:M22)) -> 1600
... A26: ='Bütçe'!A26 -> Diğer | B26: 1200 | C26: 650 | D26: 700 | N26: =SUM(B26:M26) -> 2550 | O26: =IF(COUNT(B26:M26)=0,"",AVERAGE(B26:M26)) -> 850
A27: Toplam gider | B27: =IF(COUNT(B5:B7,B11:B26)=0,"",SUM(B11:B26)) -> 45020 | C27: =IF(COUNT(C5:C7,C11:C26)=0,"",SUM(C11:C26)) -> 45230 | D27: =IF(COUNT(D5:D7,D11:D26)=0,"",SUM(D11:D26)) -> 42350 | E27: =IF(COUNT(E5:E7,E11:E26)=0,"",SUM(E11:E26)) | F27: =IF(COUNT(F5:F7,F11:F26)=0,"",SUM(F11:F26)) | G27: =IF(COUNT(G5:G7,G11:G26)=0,"",SUM(G11:G26)) | H27: =IF(COUNT(H5:H7,H11:H26)=0,"",SUM(H11:H26)) | I27: =IF(COUNT(I5:I7,I11:I26)=0,"",SUM(I11:I26)) | ... M27: =IF(COUNT(M5:M7,M11:M26)=0,"",SUM(M11:M26)) | N27: =SUM(B27:M27) -> 132600 | O27: =IF(COUNT(B27:M27)=0,"",AVERAGE(B27:M27)) -> 44200
A29: Kalan (gelir − gider) | B29: =IF(B8="","",B8-B27) -> -20 | C29: =IF(C8="","",C8-C27) -> 2770 | D29: =IF(D8="","",D8-D27) -> 2650 | E29: =IF(E8="","",E8-E27) | F29: =IF(F8="","",F8-F27) | G29: =IF(G8="","",G8-G27) | H29: =IF(H8="","",H8-H27) | I29: =IF(I8="","",I8-I27) | ... M29: =IF(M8="","",M8-M27) | N29: =SUM(B29:M29) -> 5400 | O29: =IF(COUNT(B29:M29)=0,"",AVERAGE(B29:M29)) -> 1800
A30: Biriken (birikim + kalan) | B30: =IF(B8="","",B25+B29) -> 1480 | C30: =IF(C8="","",C25+C29) -> 6770 | D30: =IF(D8="","",D25+D29) -> 6150 | E30: =IF(E8="","",E25+E29) | F30: =IF(F8="","",F25+F29) | G30: =IF(G8="","",G25+G29) | H30: =IF(H8="","",H25+H29) | I30: =IF(I8="","",I25+I29) | ... M30: =IF(M8="","",M25+M29) | N30: =SUM(B30:M30) -> 14400 | O30: =IF(COUNT(B30:M30)=0,"",AVERAGE(B30:M30)) -> 4800
A31: Tasarruf oranı | B31: =IF(N(B8)=0,"",B30/B8) -> 0.032888889 | C31: =IF(N(C8)=0,"",C30/C8) -> 0.14104167 | D31: =IF(N(D8)=0,"",D30/D8) -> 0.13666667 | E31: =IF(N(E8)=0,"",E30/E8) | F31: =IF(N(F8)=0,"",F30/F8) | G31: =IF(N(G8)=0,"",G30/G8) | H31: =IF(N(H8)=0,"",H30/H8) | I31: =IF(N(I8)=0,"",I30/I8) | ... O31: =IF(N(O8)=0,"",O30/O8) -> 0.10434783

Sheet Fark
A1: Plan ile Gerçekleşen Farkı
A2: Artı (yeşil) = lehine: gelir plandan fazla, gider plandan az ya da birikim plandan fazla. Eksi (kırmızı) = o kalemde planı aştın.
A3: Kalem | B3: Ocak | C3: Şubat | D3: Mart | E3: Nisan | F3: Mayıs | G3: Haziran | H3: Temmuz | I3: Ağustos | J3: Eylül | K3: Ekim | L3: Kasım | M3: Aralık | N3: Yıl içi toplam fark
A4: GELİRLER
A5: ='Bütçe'!A5 -> Maaş | B5: =IF(COUNT('Gerçekleşen'!B5)=0,"",'Gerçekleşen'!B5-'Bütçe'!B5) -> 0 | C5: =IF(COUNT('Gerçekleşen'!C5)=0,"",'Gerçekleşen'!C5-'Bütçe'!C5) -> 0 | D5: =IF(COUNT('Gerçekleşen'!D5)=0,"",'Gerçekleşen'!D5-'Bütçe'!D5) -> 0 | E5: =IF(COUNT('Gerçekleşen'!E5)=0,"",'Gerçekleşen'!E5-'Bütçe'!E5) | F5: =IF(COUNT('Gerçekleşen'!F5)=0,"",'Gerçekleşen'!F5-'Bütçe'!F5) | G5: =IF(COUNT('Gerçekleşen'!G5)=0,"",'Gerçekleşen'!G5-'Bütçe'!G5) | H5: =IF(COUNT('Gerçekleşen'!H5)=0,"",'Gerçekleşen'!H5-'Bütçe'!H5) | I5: =IF(COUNT('Gerçekleşen'!I5)=0,"",'Gerçekleşen'!I5-'Bütçe'!I5) | ... M5: =IF(COUNT('Gerçekleşen'!M5)=0,"",'Gerçekleşen'!M5-'Bütçe'!M5) | N5: =SUM(B5:M5) -> 0
A6: ='Bütçe'!A6 -> Ek gelir | B6: =IF(COUNT('Gerçekleşen'!B6)=0,"",'Gerçekleşen'!B6-'Bütçe'!B6) -> 0 | C6: =IF(COUNT('Gerçekleşen'!C6)=0,"",'Gerçekleşen'!C6-'Bütçe'!C6) -> 3000 | D6: =IF(COUNT('Gerçekleşen'!D6)=0,"",'Gerçekleşen'!D6-'Bütçe'!D6) -> 0 | E6: =IF(COUNT('Gerçekleşen'!E6)=0,"",'Gerçekleşen'!E6-'Bütçe'!E6) | F6: =IF(COUNT('Gerçekleşen'!F6)=0,"",'Gerçekleşen'!F6-'Bütçe'!F6) | G6: =IF(COUNT('Gerçekleşen'!G6)=0,"",'Gerçekleşen'!G6-'Bütçe'!G6) | H6: =IF(COUNT('Gerçekleşen'!H6)=0,"",'Gerçekleşen'!H6-'Bütçe'!H6) | I6: =IF(COUNT('Gerçekleşen'!I6)=0,"",'Gerçekleşen'!I6-'Bütçe'!I6) | ... M6: =IF(COUNT('Gerçekleşen'!M6)=0,"",'Gerçekleşen'!M6-'Bütçe'!M6) | N6: =SUM(B6:M6) -> 3000
A7: ='Bütçe'!A7 -> Diğer gelir | B7: =IF(COUNT('Gerçekleşen'!B7)=0,"",'Gerçekleşen'!B7-'Bütçe'!B7) -> 0 | C7: =IF(COUNT('Gerçekleşen'!C7)=0,"",'Gerçekleşen'!C7-'Bütçe'!C7) -> 0 | D7: =IF(COUNT('Gerçekleşen'!D7)=0,"",'Gerçekleşen'!D7-'Bütçe'!D7) -> 0 | E7: =IF(COUNT('Gerçekleşen'!E7)=0,"",'Gerçekleşen'!E7-'Bütçe'!E7) | F7: =IF(COUNT('Gerçekleşen'!F7)=0,"",'Gerçekleşen'!F7-'Bütçe'!F7) | G7: =IF(COUNT('Gerçekleşen'!G7)=0,"",'Gerçekleşen'!G7-'Bütçe'!G7) | H7: =IF(COUNT('Gerçekleşen'!H7)=0,"",'Gerçekleşen'!H7-'Bütçe'!H7) | I7: =IF(COUNT('Gerçekleşen'!I7)=0,"",'Gerçekleşen'!I7-'Bütçe'!I7) | ... M7: =IF(COUNT('Gerçekleşen'!M7)=0,"",'Gerçekleşen'!M7-'Bütçe'!M7) | N7: =SUM(B7:M7) -> 0
A8: Toplam gelir | B8: =IF('Gerçekleşen'!B8="","",'Gerçekleşen'!B8-'Bütçe'!B8) -> 0 | C8: =IF('Gerçekleşen'!C8="","",'Gerçekleşen'!C8-'Bütçe'!C8) -> 3000 | D8: =IF('Gerçekleşen'!D8="","",'Gerçekleşen'!D8-'Bütçe'!D8) -> 0 | E8: =IF('Gerçekleşen'!E8="","",'Gerçekleşen'!E8-'Bütçe'!E8) | F8: =IF('Gerçekleşen'!F8="","",'Gerçekleşen'!F8-'Bütçe'!F8) | G8: =IF('Gerçekleşen'!G8="","",'Gerçekleşen'!G8-'Bütçe'!G8) | H8: =IF('Gerçekleşen'!H8="","",'Gerçekleşen'!H8-'Bütçe'!H8) | I8: =IF('Gerçekleşen'!I8="","",'Gerçekleşen'!I8-'Bütçe'!I8) | ... M8: =IF('Gerçekleşen'!M8="","",'Gerçekleşen'!M8-'Bütçe'!M8) | N8: =SUM(B8:M8) -> 3000
A10: GİDERLER
A11: ='Bütçe'!A11 -> Kira | B11: =IF(COUNT('Gerçekleşen'!B11)=0,"",'Bütçe'!B11-'Gerçekleşen'!B11) -> 0 | C11: =IF(COUNT('Gerçekleşen'!C11)=0,"",'Bütçe'!C11-'Gerçekleşen'!C11) -> 0 | D11: =IF(COUNT('Gerçekleşen'!D11)=0,"",'Bütçe'!D11-'Gerçekleşen'!D11) -> 0 | E11: =IF(COUNT('Gerçekleşen'!E11)=0,"",'Bütçe'!E11-'Gerçekleşen'!E11) | F11: =IF(COUNT('Gerçekleşen'!F11)=0,"",'Bütçe'!F11-'Gerçekleşen'!F11) | G11: =IF(COUNT('Gerçekleşen'!G11)=0,"",'Bütçe'!G11-'Gerçekleşen'!G11) | H11: =IF(COUNT('Gerçekleşen'!H11)=0,"",'Bütçe'!H11-'Gerçekleşen'!H11) | I11: =IF(COUNT('Gerçekleşen'!I11)=0,"",'Bütçe'!I11-'Gerçekleşen'!I11) | ... M11: =IF(COUNT('Gerçekleşen'!M11)=0,"",'Bütçe'!M11-'Gerçekleşen'!M11) | N11: =SUM(B11:M11) -> 0
A12: ='Bütçe'!A12 -> Aidat | B12: =IF(COUNT('Gerçekleşen'!B12)=0,"",'Bütçe'!B12-'Gerçekleşen'!B12) -> 0 | C12: =IF(COUNT('Gerçekleşen'!C12)=0,"",'Bütçe'!C12-'Gerçekleşen'!C12) -> 0 | D12: =IF(COUNT('Gerçekleşen'!D12)=0,"",'Bütçe'!D12-'Gerçekleşen'!D12) -> 0 | E12: =IF(COUNT('Gerçekleşen'!E12)=0,"",'Bütçe'!E12-'Gerçekleşen'!E12) | F12: =IF(COUNT('Gerçekleşen'!F12)=0,"",'Bütçe'!F12-'Gerçekleşen'!F12) | G12: =IF(COUNT('Gerçekleşen'!G12)=0,"",'Bütçe'!G12-'Gerçekleşen'!G12) | H12: =IF(COUNT('Gerçekleşen'!H12)=0,"",'Bütçe'!H12-'Gerçekleşen'!H12) | I12: =IF(COUNT('Gerçekleşen'!I12)=0,"",'Bütçe'!I12-'Gerçekleşen'!I12) | ... M12: =IF(COUNT('Gerçekleşen'!M12)=0,"",'Bütçe'!M12-'Gerçekleşen'!M12) | N12: =SUM(B12:M12) -> 0
A13: ='Bütçe'!A13 -> Elektrik | B13: =IF(COUNT('Gerçekleşen'!B13)=0,"",'Bütçe'!B13-'Gerçekleşen'!B13) -> -140 | C13: =IF(COUNT('Gerçekleşen'!C13)=0,"",'Bütçe'!C13-'Gerçekleşen'!C13) -> -80 | D13: =IF(COUNT('Gerçekleşen'!D13)=0,"",'Bütçe'!D13-'Gerçekleşen'!D13) -> -10 | E13: =IF(COUNT('Gerçekleşen'!E13)=0,"",'Bütçe'!E13-'Gerçekleşen'!E13) | F13: =IF(COUNT('Gerçekleşen'!F13)=0,"",'Bütçe'!F13-'Gerçekleşen'!F13) | G13: =IF(COUNT('Gerçekleşen'!G13)=0,"",'Bütçe'!G13-'Gerçekleşen'!G13) | H13: =IF(COUNT('Gerçekleşen'!H13)=0,"",'Bütçe'!H13-'Gerçekleşen'!H13) | I13: =IF(COUNT('Gerçekleşen'!I13)=0,"",'Bütçe'!I13-'Gerçekleşen'!I13) | ... M13: =IF(COUNT('Gerçekleşen'!M13)=0,"",'Bütçe'!M13-'Gerçekleşen'!M13) | N13: =SUM(B13:M13) -> -230
A14: ='Bütçe'!A14 -> Su | B14: =IF(COUNT('Gerçekleşen'!B14)=0,"",'Bütçe'!B14-'Gerçekleşen'!B14) -> -20 | C14: =IF(COUNT('Gerçekleşen'!C14)=0,"",'Bütçe'!C14-'Gerçekleşen'!C14) -> 0 | D14: =IF(COUNT('Gerçekleşen'!D14)=0,"",'Bütçe'!D14-'Gerçekleşen'!D14) -> 10 | E14: =IF(COUNT('Gerçekleşen'!E14)=0,"",'Bütçe'!E14-'Gerçekleşen'!E14) | F14: =IF(COUNT('Gerçekleşen'!F14)=0,"",'Bütçe'!F14-'Gerçekleşen'!F14) | G14: =IF(COUNT('Gerçekleşen'!G14)=0,"",'Bütçe'!G14-'Gerçekleşen'!G14) | H14: =IF(COUNT('Gerçekleşen'!H14)=0,"",'Bütçe'!H14-'Gerçekleşen'!H14) | I14: =IF(COUNT('Gerçekleşen'!I14)=0,"",'Bütçe'!I14-'Gerçekleşen'!I14) | ... M14: =IF(COUNT('Gerçekleşen'!M14)=0,"",'Bütçe'!M14-'Gerçekleşen'!M14) | N14: =SUM(B14:M14) -> -10
A15: ='Bütçe'!A15 -> Doğalgaz | B15: =IF(COUNT('Gerçekleşen'!B15)=0,"",'Bütçe'!B15-'Gerçekleşen'!B15) -> -460 | C15: =IF(COUNT('Gerçekleşen'!C15)=0,"",'Bütçe'!C15-'Gerçekleşen'!C15) -> -450 | D15: =IF(COUNT('Gerçekleşen'!D15)=0,"",'Bütçe'!D15-'Gerçekleşen'!D15) -> -150 | E15: =IF(COUNT('Gerçekleşen'!E15)=0,"",'Bütçe'!E15-'Gerçekleşen'!E15) | F15: =IF(COUNT('Gerçekleşen'!F15)=0,"",'Bütçe'!F15-'Gerçekleşen'!F15) | G15: =IF(COUNT('Gerçekleşen'!G15)=0,"",'Bütçe'!G15-'Gerçekleşen'!G15) | H15: =IF(COUNT('Gerçekleşen'!H15)=0,"",'Bütçe'!H15-'Gerçekleşen'!H15) | I15: =IF(COUNT('Gerçekleşen'!I15)=0,"",'Bütçe'!I15-'Gerçekleşen'!I15) | ... M15: =IF(COUNT('Gerçekleşen'!M15)=0,"",'Bütçe'!M15-'Gerçekleşen'!M15) | N15: =SUM(B15:M15) -> -1060
A16: ='Bütçe'!A16 -> İnternet / Telefon | B16: =IF(COUNT('Gerçekleşen'!B16)=0,"",'Bütçe'!B16-'Gerçekleşen'!B16) -> 0 | C16: =IF(COUNT('Gerçekleşen'!C16)=0,"",'Bütçe'!C16-'Gerçekleşen'!C16) -> 0 | D16: =IF(COUNT('Gerçekleşen'!D16)=0,"",'Bütçe'!D16-'Gerçekleşen'!D16) -> 0 | E16: =IF(COUNT('Gerçekleşen'!E16)=0,"",'Bütçe'!E16-'Gerçekleşen'!E16) | F16: =IF(COUNT('Gerçekleşen'!F16)=0,"",'Bütçe'!F16-'Gerçekleşen'!F16) | G16: =IF(COUNT('Gerçekleşen'!G16)=0,"",'Bütçe'!G16-'Gerçekleşen'!G16) | H16: =IF(COUNT('Gerçekleşen'!H16)=0,"",'Bütçe'!H16-'Gerçekleşen'!H16) | I16: =IF(COUNT('Gerçekleşen'!I16)=0,"",'Bütçe'!I16-'Gerçekleşen'!I16) | ... M16: =IF(COUNT('Gerçekleşen'!M16)=0,"",'Bütçe'!M16-'Gerçekleşen'!M16) | N16: =SUM(B16:M16) -> 0
A17: ='Bütçe'!A17 -> Market | B17: =IF(COUNT('Gerçekleşen'!B17)=0,"",'Bütçe'!B17-'Gerçekleşen'!B17) -> -1350 | C17: =IF(COUNT('Gerçekleşen'!C17)=0,"",'Bütçe'!C17-'Gerçekleşen'!C17) -> -400 | D17: =IF(COUNT('Gerçekleşen'!D17)=0,"",'Bütçe'!D17-'Gerçekleşen'!D17) -> 200 | E17: =IF(COUNT('Gerçekleşen'!E17)=0,"",'Bütçe'!E17-'Gerçekleşen'!E17) | F17: =IF(COUNT('Gerçekleşen'!F17)=0,"",'Bütçe'!F17-'Gerçekleşen'!F17) | G17: =IF(COUNT('Gerçekleşen'!G17)=0,"",'Bütçe'!G17-'Gerçekleşen'!G17) | H17: =IF(COUNT('Gerçekleşen'!H17)=0,"",'Bütçe'!H17-'Gerçekleşen'!H17) | I17: =IF(COUNT('Gerçekleşen'!I17)=0,"",'Bütçe'!I17-'Gerçekleşen'!I17) | ... M17: =IF(COUNT('Gerçekleşen'!M17)=0,"",'Bütçe'!M17-'Gerçekleşen'!M17) | N17: =SUM(B17:M17) -> -1550
A18: ='Bütçe'!A18 -> Ulaşım | B18: =IF(COUNT('Gerçekleşen'!B18)=0,"",'Bütçe'!B18-'Gerçekleşen'!B18) -> 200 | C18: =IF(COUNT('Gerçekleşen'!C18)=0,"",'Bütçe'!C18-'Gerçekleşen'!C18) -> -150 | D18: =IF(COUNT('Gerçekleşen'!D18)=0,"",'Bütçe'!D18-'Gerçekleşen'!D18) -> 50 | E18: =IF(COUNT('Gerçekleşen'!E18)=0,"",'Bütçe'!E18-'Gerçekleşen'!E18) | F18: =IF(COUNT('Gerçekleşen'!F18)=0,"",'Bütçe'!F18-'Gerçekleşen'!F18) | G18: =IF(COUNT('Gerçekleşen'!G18)=0,"",'Bütçe'!G18-'Gerçekleşen'!G18) | H18: =IF(COUNT('Gerçekleşen'!H18)=0,"",'Bütçe'!H18-'Gerçekleşen'!H18) | I18: =IF(COUNT('Gerçekleşen'!I18)=0,"",'Bütçe'!I18-'Gerçekleşen'!I18) | ... M18: =IF(COUNT('Gerçekleşen'!M18)=0,"",'Bütçe'!M18-'Gerçekleşen'!M18) | N18: =SUM(B18:M18) -> 100
A19: ='Bütçe'!A19 -> Sağlık | B19: =IF(COUNT('Gerçekleşen'!B19)=0,"",'Bütçe'!B19-'Gerçekleşen'!B19) -> 350 | C19: =IF(COUNT('Gerçekleşen'!C19)=0,"",'Bütçe'!C19-'Gerçekleşen'!C19) -> -1200 | D19: =IF(COUNT('Gerçekleşen'!D19)=0,"",'Bütçe'!D19-'Gerçekleşen'!D19) -> 200 | E19: =IF(COUNT('Gerçekleşen'!E19)=0,"",'Bütçe'!E19-'Gerçekleşen'!E19) | F19: =IF(COUNT('Gerçekleşen'!F19)=0,"",'Bütçe'!F19-'Gerçekleşen'!F19) | G19: =IF(COUNT('Gerçekleşen'!G19)=0,"",'Bütçe'!G19-'Gerçekleşen'!G19) | H19: =IF(COUNT('Gerçekleşen'!H19)=0,"",'Bütçe'!H19-'Gerçekleşen'!H19) | I19: =IF(COUNT('Gerçekleşen'!I19)=0,"",'Bütçe'!I19-'Gerçekleşen'!I19) | ... M19: =IF(COUNT('Gerçekleşen'!M19)=0,"",'Bütçe'!M19-'Gerçekleşen'!M19) | N19: =SUM(B19:M19) -> -650
A20: ='Bütçe'!A20 -> Eğitim | B20: =IF(COUNT('Gerçekleşen'!B20)=0,"",'Bütçe'!B20-'Gerçekleşen'!B20) -> 0 | C20: =IF(COUNT('Gerçekleşen'!C20)=0,"",'Bütçe'!C20-'Gerçekleşen'!C20) -> 0 | D20: =IF(COUNT('Gerçekleşen'!D20)=0,"",'Bütçe'!D20-'Gerçekleşen'!D20) -> 0 | E20: =IF(COUNT('Gerçekleşen'!E20)=0,"",'Bütçe'!E20-'Gerçekleşen'!E20) | F20: =IF(COUNT('Gerçekleşen'!F20)=0,"",'Bütçe'!F20-'Gerçekleşen'!F20) | G20: =IF(COUNT('Gerçekleşen'!G20)=0,"",'Bütçe'!G20-'Gerçekleşen'!G20) | H20: =IF(COUNT('Gerçekleşen'!H20)=0,"",'Bütçe'!H20-'Gerçekleşen'!H20) | I20: =IF(COUNT('Gerçekleşen'!I20)=0,"",'Bütçe'!I20-'Gerçekleşen'!I20) | ... M20: =IF(COUNT('Gerçekleşen'!M20)=0,"",'Bütçe'!M20-'Gerçekleşen'!M20) | N20: =SUM(B20:M20) -> 0
A21: ='Bütçe'!A21 -> Giyim | B21: =IF(COUNT('Gerçekleşen'!B21)=0,"",'Bütçe'!B21-'Gerçekleşen'!B21) -> -1400 | C21: =IF(COUNT('Gerçekleşen'!C21)=0,"",'Bütçe'!C21-'Gerçekleşen'!C21) -> 400 | D21: =IF(COUNT('Gerçekleşen'!D21)=0,"",'Bütçe'!D21-'Gerçekleşen'!D21) -> 100 | E21: =IF(COUNT('Gerçekleşen'!E21)=0,"",'Bütçe'!E21-'Gerçekleşen'!E21) | F21: =IF(COUNT('Gerçekleşen'!F21)=0,"",'Bütçe'!F21-'Gerçekleşen'!F21) | G21: =IF(COUNT('Gerçekleşen'!G21)=0,"",'Bütçe'!G21-'Gerçekleşen'!G21) | H21: =IF(COUNT('Gerçekleşen'!H21)=0,"",'Bütçe'!H21-'Gerçekleşen'!H21) | I21: =IF(COUNT('Gerçekleşen'!I21)=0,"",'Bütçe'!I21-'Gerçekleşen'!I21) | ... M21: =IF(COUNT('Gerçekleşen'!M21)=0,"",'Bütçe'!M21-'Gerçekleşen'!M21) | N21: =SUM(B21:M21) -> -900
A22: ='Bütçe'!A22 -> Eğlence | B22: =IF(COUNT('Gerçekleşen'!B22)=0,"",'Bütçe'!B22-'Gerçekleşen'!B22) -> -400 | C22: =IF(COUNT('Gerçekleşen'!C22)=0,"",'Bütçe'!C22-'Gerçekleşen'!C22) -> 200 | D22: =IF(COUNT('Gerçekleşen'!D22)=0,"",'Bütçe'!D22-'Gerçekleşen'!D22) -> -100 | E22: =IF(COUNT('Gerçekleşen'!E22)=0,"",'Bütçe'!E22-'Gerçekleşen'!E22) | F22: =IF(COUNT('Gerçekleşen'!F22)=0,"",'Bütçe'!F22-'Gerçekleşen'!F22) | G22: =IF(COUNT('Gerçekleşen'!G22)=0,"",'Bütçe'!G22-'Gerçekleşen'!G22) | H22: =IF(COUNT('Gerçekleşen'!H22)=0,"",'Bütçe'!H22-'Gerçekleşen'!H22) | I22: =IF(COUNT('Gerçekleşen'!I22)=0,"",'Bütçe'!I22-'Gerçekleşen'!I22) | ... M22: =IF(COUNT('Gerçekleşen'!M22)=0,"",'Bütçe'!M22-'Gerçekleşen'!M22) | N22: =SUM(B22:M22) -> -300
... A24: ='Bütçe'!A24 -> Kredi kartı / Borç ödemesi | B24: =IF(COUNT('Gerçekleşen'!B24)=0,"",'Bütçe'!B24-'Gerçekleşen'!B24) -> 0 | C24: =IF(COUNT('Gerçekleşen'!C24)=0,"",'Bütçe'!C24-'Gerçekleşen'!C24) -> 0 | D24: =IF(COUNT('Gerçekleşen'!D24)=0,"",'Bütçe'!D24-'Gerçekleşen'!D24) -> 0 | E24: =IF(COUNT('Gerçekleşen'!E24)=0,"",'Bütçe'!E24-'Gerçekleşen'!E24) | F24: =IF(COUNT('Gerçekleşen'!F24)=0,"",'Bütçe'!F24-'Gerçekleşen'!F24) | G24: =IF(COUNT('Gerçekleşen'!G24)=0,"",'Bütçe'!G24-'Gerçekleşen'!G24) | H24: =IF(COUNT('Gerçekleşen'!H24)=0,"",'Bütçe'!H24-'Gerçekleşen'!H24) | I24: =IF(COUNT('Gerçekleşen'!I24)=0,"",'Bütçe'!I24-'Gerçekleşen'!I24) | ... M24: =IF(COUNT('Gerçekleşen'!M24)=0,"",'Bütçe'!M24-'Gerçekleşen'!M24) | N24: =SUM(B24:M24) -> 0
A25: ='Bütçe'!A25 -> Birikim | B25: =IF(COUNT('Gerçekleşen'!B25)=0,"",'Gerçekleşen'!B25-'Bütçe'!B25) -> -1500 | C25: =IF(COUNT('Gerçekleşen'!C25)=0,"",'Gerçekleşen'!C25-'Bütçe'!C25) -> 1000 | D25: =IF(COUNT('Gerçekleşen'!D25)=0,"",'Gerçekleşen'!D25-'Bütçe'!D25) -> 500 | E25: =IF(COUNT('Gerçekleşen'!E25)=0,"",'Gerçekleşen'!E25-'Bütçe'!E25) | F25: =IF(COUNT('Gerçekleşen'!F25)=0,"",'Gerçekleşen'!F25-'Bütçe'!F25) | G25: =IF(COUNT('Gerçekleşen'!G25)=0,"",'Gerçekleşen'!G25-'Bütçe'!G25) | H25: =IF(COUNT('Gerçekleşen'!H25)=0,"",'Gerçekleşen'!H25-'Bütçe'!H25) | I25: =IF(COUNT('Gerçekleşen'!I25)=0,"",'Gerçekleşen'!I25-'Bütçe'!I25) | ... M25: =IF(COUNT('Gerçekleşen'!M25)=0,"",'Gerçekleşen'!M25-'Bütçe'!M25) | N25: =SUM(B25:M25) -> 0
A26: ='Bütçe'!A26 -> Diğer | B26: =IF(COUNT('Gerçekleşen'!B26)=0,"",'Bütçe'!B26-'Gerçekleşen'!B26) -> -400 | C26: =IF(COUNT('Gerçekleşen'!C26)=0,"",'Bütçe'!C26-'Gerçekleşen'!C26) -> 150 | D26: =IF(COUNT('Gerçekleşen'!D26)=0,"",'Bütçe'!D26-'Gerçekleşen'!D26) -> 100 | E26: =IF(COUNT('Gerçekleşen'!E26)=0,"",'Bütçe'!E26-'Gerçekleşen'!E26) | F26: =IF(COUNT('Gerçekleşen'!F26)=0,"",'Bütçe'!F26-'Gerçekleşen'!F26) | G26: =IF(COUNT('Gerçekleşen'!G26)=0,"",'Bütçe'!G26-'Gerçekleşen'!G26) | H26: =IF(COUNT('Gerçekleşen'!H26)=0,"",'Bütçe'!H26-'Gerçekleşen'!H26) | I26: =IF(COUNT('Gerçekleşen'!I26)=0,"",'Bütçe'!I26-'Gerçekleşen'!I26) | ... M26: =IF(COUNT('Gerçekleşen'!M26)=0,"",'Bütçe'!M26-'Gerçekleşen'!M26) | N26: =SUM(B26:M26) -> -150
A27: Toplam gider | B27: =IF('Gerçekleşen'!B27="","",'Bütçe'!B27-'Gerçekleşen'!B27) -> -2120 | C27: =IF('Gerçekleşen'!C27="","",'Bütçe'!C27-'Gerçekleşen'!C27) -> -2530 | D27: =IF('Gerçekleşen'!D27="","",'Bütçe'!D27-'Gerçekleşen'!D27) -> -250 | E27: =IF('Gerçekleşen'!E27="","",'Bütçe'!E27-'Gerçekleşen'!E27) | F27: =IF('Gerçekleşen'!F27="","",'Bütçe'!F27-'Gerçekleşen'!F27) | G27: =IF('Gerçekleşen'!G27="","",'Bütçe'!G27-'Gerçekleşen'!G27) | H27: =IF('Gerçekleşen'!H27="","",'Bütçe'!H27-'Gerçekleşen'!H27) | I27: =IF('Gerçekleşen'!I27="","",'Bütçe'!I27-'Gerçekleşen'!I27) | ... M27: =IF('Gerçekleşen'!M27="","",'Bütçe'!M27-'Gerçekleşen'!M27) | N27: =SUM(B27:M27) -> -4900
A29: Kalan | B29: =IF('Gerçekleşen'!B29="","",'Gerçekleşen'!B29-'Bütçe'!B29) -> -2120 | C29: =IF('Gerçekleşen'!C29="","",'Gerçekleşen'!C29-'Bütçe'!C29) -> 470 | D29: =IF('Gerçekleşen'!D29="","",'Gerçekleşen'!D29-'Bütçe'!D29) -> -250 | E29: =IF('Gerçekleşen'!E29="","",'Gerçekleşen'!E29-'Bütçe'!E29) | F29: =IF('Gerçekleşen'!F29="","",'Gerçekleşen'!F29-'Bütçe'!F29) | G29: =IF('Gerçekleşen'!G29="","",'Gerçekleşen'!G29-'Bütçe'!G29) | H29: =IF('Gerçekleşen'!H29="","",'Gerçekleşen'!H29-'Bütçe'!H29) | I29: =IF('Gerçekleşen'!I29="","",'Gerçekleşen'!I29-'Bütçe'!I29) | ... M29: =IF('Gerçekleşen'!M29="","",'Gerçekleşen'!M29-'Bütçe'!M29) | N29: =SUM(B29:M29) -> -1900
A30: Biriken (birikim + kalan) | B30: =IF('Gerçekleşen'!B30="","",'Gerçekleşen'!B30-'Bütçe'!B30) -> -3620 | C30: =IF('Gerçekleşen'!C30="","",'Gerçekleşen'!C30-'Bütçe'!C30) -> 1470 | D30: =IF('Gerçekleşen'!D30="","",'Gerçekleşen'!D30-'Bütçe'!D30) -> 250 | E30: =IF('Gerçekleşen'!E30="","",'Gerçekleşen'!E30-'Bütçe'!E30) | F30: =IF('Gerçekleşen'!F30="","",'Gerçekleşen'!F30-'Bütçe'!F30) | G30: =IF('Gerçekleşen'!G30="","",'Gerçekleşen'!G30-'Bütçe'!G30) | H30: =IF('Gerçekleşen'!H30="","",'Gerçekleşen'!H30-'Bütçe'!H30) | I30: =IF('Gerçekleşen'!I30="","",'Gerçekleşen'!I30-'Bütçe'!I30) | ... M30: =IF('Gerçekleşen'!M30="","",'Gerçekleşen'!M30-'Bütçe'!M30) | N30: =SUM(B30:M30) -> -1900
A31: Tasarruf oranı (puan) | B31: =IF(N('Gerçekleşen'!B8)=0,"",'Gerçekleşen'!B31-'Bütçe'!B31) -> -0.080444444 | C31: =IF(N('Gerçekleşen'!C8)=0,"",'Gerçekleşen'!C31-'Bütçe'!C31) -> 0.023263889 | D31: =IF(N('Gerçekleşen'!D8)=0,"",'Gerçekleşen'!D31-'Bütçe'!D31) -> 0.0055555556 | E31: =IF(N('Gerçekleşen'!E8)=0,"",'Gerçekleşen'!E31-'Bütçe'!E31) | F31: =IF(N('Gerçekleşen'!F8)=0,"",'Gerçekleşen'!F31-'Bütçe'!F31) | G31: =IF(N('Gerçekleşen'!G8)=0,"",'Gerçekleşen'!G31-'Bütçe'!G31) | H31: =IF(N('Gerçekleşen'!H8)=0,"",'Gerçekleşen'!H31-'Bütçe'!H31) | I31: =IF(N('Gerçekleşen'!I8)=0,"",'Gerçekleşen'!I31-'Bütçe'!I31) | ... M31: =IF(N('Gerçekleşen'!M8)=0,"",'Gerçekleşen'!M31-'Bütçe'!M31)

Sheet Nasıl Kullanılır
A1: Aylık Bütçe Tablosu — Nasıl Kullanılır?
A3: 1. Bütçe sayfası: Yıl başında her ay için beklediğin geliri ve planladığın gideri sarı hücrelere yaz. Doğalgaz, eğitim, tatil gibi mevsimlik kalemleri ilgili aya koy.
A4: 2. Gerçekleşen sayfası: Her ay sonunda gerçekte harcadığın tutarları aynı kategorilere yaz. Boş bıraktığın aylar ortalamaya ve farka girmez.
A5: 3. Fark sayfası: Hiçbir şey yazmana gerek yok. Kırmızı (eksi) hücreler planı aştığın kalemleri, yeşil (artı) hücreler lehine kapanan kalemleri gösterir.
A6: 4. Tasarruf oranı = (Birikim + Kalan) / Toplam gelir. Yüzde 20 ve üzeri sağlıklı bir hedeftir.
A7: 5. Kategori adını değiştirmek istersen yalnızca Bütçe sayfasındaki adı değiştir; diğer sayfalar oradan okur. Satır ekleyip silme: üç sayfa satır satır eşleşir. Fazla kalemleri Diğer satırında topla.
A9: Formüller Excel, LibreOffice ve Google E-Tablolar ile çalışır. Türkçe ayarlı programlarda formüller noktalı virgülle (;) görünür, bu normaldir.
A10: Harcamaları telefondan fişin fotoğrafını çekerek ya da sesle kaydetmek için: kisiselmuhasebe.com
